BEGIN:VCALENDAR
VERSION:2.0
PRODID:-//Golfclub Sittensen - ECPv6.10.1//NONSGML v1.0//EN
CALSCALE:GREGORIAN
METHOD:PUBLISH
X-ORIGINAL-URL:https://www.golfclub-sittensen.de
X-WR-CALDESC:Veranstaltungen für Golfclub Sittensen
REFRESH-INTERVAL;VALUE=DURATION:PT1H
X-Robots-Tag:noindex
X-PUBLISHED-TTL:PT1H
BEGIN:VTIMEZONE
TZID:UTC
BEGIN:STANDARD
TZOFFSETFROM:+0000
TZOFFSETTO:+0000
TZNAME:UTC
DTSTART:20260101T000000
END:STANDARD
END:VTIMEZONE
BEGIN:VEVENT
DTSTART;TZID=UTC:20260423T100000
DTEND;TZID=UTC:20260423T133000
DTSTAMP:20260421T222423
CREATED:20260106T153830Z
LAST-MODIFIED:20260106T153830Z
UID:9842-1776938400-1776951000@www.golfclub-sittensen.de
SUMMARY:Senioren n.V. Netto Birdie Bahn 2
DESCRIPTION:
URL:https://www.golfclub-sittensen.de/turnier-events/senioren-n-v-netto-birdie-bahn-2/
LOCATION:Golfclub Königshof Sittensen e.V.\, Alpershausener Weg 60\, Sittensen\, 27419\, Deutschland
CATEGORIES:Wettspielkalender
ORGANIZER;CN="Golfclub K%C3%B6nigshof Sittensen e.V.":MAILTO:www.golfclub-sittensen.de
END:VEVENT
BEGIN:VEVENT
DTSTART;TZID=UTC:20260424T053000
DTEND;TZID=UTC:20260424T193000
DTSTAMP:20260421T222423
CREATED:20260106T153937Z
LAST-MODIFIED:20260107T155820Z
UID:9844-1777008600-1777059000@www.golfclub-sittensen.de
SUMMARY:Fridays Open (3)
DESCRIPTION:Spielart: Einzel Stableford über 9 Löcher\, HCPI-relevant
URL:https://www.golfclub-sittensen.de/turnier-events/fridays-open-3-3/
LOCATION:Golfclub Königshof Sittensen e.V.\, Alpershausener Weg 60\, Sittensen\, 27419\, Deutschland
CATEGORIES:Wettspielkalender
ORGANIZER;CN="Golfclub K%C3%B6nigshof Sittensen e.V.":MAILTO:www.golfclub-sittensen.de
END:VEVENT
BEGIN:VEVENT
DTSTART;TZID=UTC:20260425T100000
DTEND;TZID=UTC:20260425T140000
DTSTAMP:20260421T222423
CREATED:20260106T154151Z
LAST-MODIFIED:20260106T154225Z
UID:9846-1777111200-1777125600@www.golfclub-sittensen.de
SUMMARY:Memorial Cup Monday Fighter
DESCRIPTION:
URL:https://www.golfclub-sittensen.de/turnier-events/memorial-cup-monday-fighter-2/
END:VEVENT
BEGIN:VEVENT
DTSTART;TZID=UTC:20260426T093000
DTEND;TZID=UTC:20260426T170000
DTSTAMP:20260421T222423
CREATED:20260129T090415Z
LAST-MODIFIED:20260223T150148Z
UID:10028-1777195800-1777222800@www.golfclub-sittensen.de
SUMMARY:HTB-Saisoneröffnungsturnier 2026 - Spaßturnier über 18 Loch in 2er Teams | Beginner-Cup 13:00 Uhr
DESCRIPTION:
URL:https://www.golfclub-sittensen.de/turnier-events/htb-saisoneroeffnungsturnier-2026-spassturnier-in-2er-teams-hcp1-hcp2-2-bahn-1-9-2er-scramble-bahnen-10-18-drive-des-partners-wird-weiter-ins-loch-gespielt/
END:VEVENT
END:VCALENDAR