BEGIN:VCALENDAR
VERSION:2.0
PRODID:-//Golfclub Sittensen - ECPv6.10.1//NONSGML v1.0//EN
CALSCALE:GREGORIAN
METHOD:PUBLISH
X-WR-CALNAME:Golfclub Sittensen
X-ORIGINAL-URL:https://www.golfclub-sittensen.de
X-WR-CALDESC:Veranstaltungen für Golfclub Sittensen
REFRESH-INTERVAL;VALUE=DURATION:PT1H
X-Robots-Tag:noindex
X-PUBLISHED-TTL:PT1H
BEGIN:VTIMEZONE
TZID:UTC
BEGIN:STANDARD
TZOFFSETFROM:+0000
TZOFFSETTO:+0000
TZNAME:UTC
DTSTART:20260101T000000
END:STANDARD
END:VTIMEZONE
BEGIN:VEVENT
DTSTART;TZID=UTC:20261003T110000
DTEND;TZID=UTC:20261003T150000
DTSTAMP:20260422T072343
CREATED:20260107T171106Z
LAST-MODIFIED:20260107T171106Z
UID:9990-1791025200-1791039600@www.golfclub-sittensen.de
SUMMARY:Ehepaarturnier
DESCRIPTION:Spielart: Vierer\, Zählspiel\, nicht HCPI-relevant
URL:https://www.golfclub-sittensen.de/turnier-events/ehepaarturnier-2/
LOCATION:Golfclub Königshof Sittensen e.V.\, Alpershausener Weg 60\, Sittensen\, 27419\, Deutschland
ORGANIZER;CN="Golfclub K%C3%B6nigshof Sittensen e.V.":MAILTO:www.golfclub-sittensen.de
END:VEVENT
BEGIN:VEVENT
DTSTART;TZID=UTC:20261004T100000
DTEND;TZID=UTC:20261004T130000
DTSTAMP:20260422T072343
CREATED:20260107T171233Z
LAST-MODIFIED:20260107T171233Z
UID:9992-1791108000-1791118800@www.golfclub-sittensen.de
SUMMARY:Beginner Cup FINALE
DESCRIPTION:Spielart: Stableford\, 9 Loch\, HCPI-relevant
URL:https://www.golfclub-sittensen.de/turnier-events/beginner-cup-finale-5/
LOCATION:Golfclub Königshof Sittensen e.V.\, Alpershausener Weg 60\, Sittensen\, 27419\, Deutschland
ORGANIZER;CN="Golfclub K%C3%B6nigshof Sittensen e.V.":MAILTO:www.golfclub-sittensen.de
END:VEVENT
BEGIN:VEVENT
DTSTART;TZID=UTC:20261008T100000
DTEND;TZID=UTC:20261008T133000
DTSTAMP:20260422T072343
CREATED:20260224T155338Z
LAST-MODIFIED:20260224T155338Z
UID:10155-1791453600-1791466200@www.golfclub-sittensen.de
SUMMARY:Trad. Wildessen mit Damen
DESCRIPTION:
URL:https://www.golfclub-sittensen.de/turnier-events/trad-wildessen-mit-damen/
END:VEVENT
BEGIN:VEVENT
DTSTART;TZID=UTC:20261010T110000
DTEND;TZID=UTC:20261010T150000
DTSTAMP:20260422T072343
CREATED:20260107T170856Z
LAST-MODIFIED:20260107T170856Z
UID:9986-1791630000-1791644400@www.golfclub-sittensen.de
SUMMARY:Mondayfigther Herbstpokal
DESCRIPTION:
URL:https://www.golfclub-sittensen.de/turnier-events/mondayfigther-herbstpokal-2/
LOCATION:Golfclub Königshof Sittensen e.V.\, Alpershausener Weg 60\, Sittensen\, 27419\, Deutschland
ORGANIZER;CN="Golfclub K%C3%B6nigshof Sittensen e.V.":MAILTO:www.golfclub-sittensen.de
END:VEVENT
BEGIN:VEVENT
DTSTART;TZID=UTC:20261011T110000
DTEND;TZID=UTC:20261011T150000
DTSTAMP:20260422T072343
CREATED:20260107T170958Z
LAST-MODIFIED:20260107T170958Z
UID:9988-1791716400-1791730800@www.golfclub-sittensen.de
SUMMARY:Grand Finale
DESCRIPTION:Spielart: Stableford\, 18 Loch\, HCPI-relevant\, Start von Tee 1 und 10
URL:https://www.golfclub-sittensen.de/turnier-events/grand-finale-6/
LOCATION:Golfclub Königshof Sittensen e.V.\, Alpershausener Weg 60\, Sittensen\, 27419\, Deutschland
ORGANIZER;CN="Golfclub K%C3%B6nigshof Sittensen e.V.":MAILTO:www.golfclub-sittensen.de
END:VEVENT
BEGIN:VEVENT
DTSTART;TZID=UTC:20261014T103000
DTEND;TZID=UTC:20261014T150000
DTSTAMP:20260422T072343
CREATED:20260224T155445Z
LAST-MODIFIED:20260224T155512Z
UID:10157-1791973800-1791990000@www.golfclub-sittensen.de
SUMMARY:Damen-Abschlusswettspiel 10.30 Uhr
DESCRIPTION:
URL:https://www.golfclub-sittensen.de/turnier-events/damen-abschlisswettspiel-10-30-uhr/
END:VEVENT
BEGIN:VEVENT
DTSTART;TZID=UTC:20261021T103000
DTEND;TZID=UTC:20261021T170000
DTSTAMP:20260422T072343
CREATED:20260224T155619Z
LAST-MODIFIED:20260224T155619Z
UID:10160-1792578600-1792602000@www.golfclub-sittensen.de
SUMMARY:Beginn Damen-Winterrunde 10.30 Uhr
DESCRIPTION:
URL:https://www.golfclub-sittensen.de/turnier-events/beginn-damen-winterrunde-10-30-uhr/
END:VEVENT
BEGIN:VEVENT
DTSTART;VALUE=DATE:20261024
DTEND;VALUE=DATE:20261025
DTSTAMP:20260422T072343
CREATED:20260107T171535Z
LAST-MODIFIED:20260107T171535Z
UID:9996-1792800000-1792886399@www.golfclub-sittensen.de
SUMMARY:Wintervergnügen
DESCRIPTION:
URL:https://www.golfclub-sittensen.de/turnier-events/wintervergnuegen-6/
LOCATION:Golfclub Königshof Sittensen e.V.\, Alpershausener Weg 60\, Sittensen\, 27419\, Deutschland
ORGANIZER;CN="Golfclub K%C3%B6nigshof Sittensen e.V.":MAILTO:www.golfclub-sittensen.de
END:VEVENT
END:VCALENDAR