BEGIN:VCALENDAR
VERSION:2.0
PRODID:-//Golfclub Sittensen - ECPv6.10.1//NONSGML v1.0//EN
CALSCALE:GREGORIAN
METHOD:PUBLISH
X-WR-CALNAME:Golfclub Sittensen
X-ORIGINAL-URL:https://www.golfclub-sittensen.de
X-WR-CALDESC:Veranstaltungen für Golfclub Sittensen
REFRESH-INTERVAL;VALUE=DURATION:PT1H
X-Robots-Tag:noindex
X-PUBLISHED-TTL:PT1H
BEGIN:VTIMEZONE
TZID:UTC
BEGIN:STANDARD
TZOFFSETFROM:+0000
TZOFFSETTO:+0000
TZNAME:UTC
DTSTART:20250101T000000
END:STANDARD
END:VTIMEZONE
BEGIN:VEVENT
DTSTART;TZID=UTC:20250801T180000
DTEND;TZID=UTC:20250801T203000
DTSTAMP:20260422T101232
CREATED:20241105T142018Z
LAST-MODIFIED:20250227T093135Z
UID:8082-1754071200-1754080200@www.golfclub-sittensen.de
SUMMARY:Fridays Open (17)
DESCRIPTION:Spielart: Einzel Stableford über 9 Löcher\, HCPI-relevant \nHier geht es zur Ausschreibung…
URL:https://www.golfclub-sittensen.de/turnier-events/fridays-open-17-2/
LOCATION:Golfclub Königshof Sittensen e.V.\, Alpershausener Weg 60\, Sittensen\, 27419\, Deutschland
END:VEVENT
BEGIN:VEVENT
DTSTART;TZID=UTC:20250802T100000
DTEND;TZID=UTC:20250802T150000
DTSTAMP:20260422T101232
CREATED:20241118T154051Z
LAST-MODIFIED:20241118T154051Z
UID:8310-1754128800-1754146800@www.golfclub-sittensen.de
SUMMARY:Heimspiel AK 50-III Herren
DESCRIPTION:
URL:https://www.golfclub-sittensen.de/turnier-events/heimspiel-ak-50-iii-herren/
LOCATION:Golfclub Königshof Sittensen e.V.\, Alpershausener Weg 60\, Sittensen\, 27419\, Deutschland
END:VEVENT
BEGIN:VEVENT
DTSTART;TZID=UTC:20250803T130000
DTEND;TZID=UTC:20250803T150000
DTSTAMP:20260422T101232
CREATED:20241227T120239Z
LAST-MODIFIED:20241227T120239Z
UID:8462-1754226000-1754233200@www.golfclub-sittensen.de
SUMMARY:Beginner Treffen
DESCRIPTION:9-Loch
URL:https://www.golfclub-sittensen.de/turnier-events/beginner-treffen-16/
LOCATION:Golfclub Königshof Sittensen e.V.\, Alpershausener Weg 60\, Sittensen\, 27419\, Deutschland
ORGANIZER;CN="Golfclub K%C3%B6nigshof Sittensen e.V.":MAILTO:www.golfclub-sittensen.de
END:VEVENT
BEGIN:VEVENT
DTSTART;TZID=UTC:20250806T110000
DTEND;TZID=UTC:20250806T140000
DTSTAMP:20260422T101232
CREATED:20241105T085001Z
LAST-MODIFIED:20241227T121857Z
UID:7958-1754478000-1754488800@www.golfclub-sittensen.de
SUMMARY:MiDaGolferinnen
DESCRIPTION:
URL:https://www.golfclub-sittensen.de/turnier-events/midagolferinnen-golfspass/
LOCATION:Golfclub Königshof Sittensen e.V.\, Alpershausener Weg 60\, Sittensen\, 27419\, Deutschland
END:VEVENT
BEGIN:VEVENT
DTSTART;TZID=UTC:20250806T180000
DTEND;TZID=UTC:20250806T200000
DTSTAMP:20260422T101232
CREATED:20241227T120650Z
LAST-MODIFIED:20250304T110105Z
UID:8465-1754503200-1754510400@www.golfclub-sittensen.de
SUMMARY:Off. Mercedes Benz AWGC (9)
DESCRIPTION:9-Loch\, HCPI-relevant\, Kanonenstart \nHier geht es zur Ausschreibung…
URL:https://www.golfclub-sittensen.de/turnier-events/off-mbawgc-9/
LOCATION:Golfclub Königshof Sittensen e.V.\, Alpershausener Weg 60\, Sittensen\, 27419\, Deutschland
ORGANIZER;CN="Golfclub K%C3%B6nigshof Sittensen e.V.":MAILTO:www.golfclub-sittensen.de
END:VEVENT
BEGIN:VEVENT
DTSTART;TZID=UTC:20250807T100000
DTEND;TZID=UTC:20250807T140000
DTSTAMP:20260422T101232
CREATED:20241105T133501Z
LAST-MODIFIED:20241105T133501Z
UID:8032-1754560800-1754575200@www.golfclub-sittensen.de
SUMMARY:Off. Senioren - / Seniorinnengolf
DESCRIPTION:Spielart: Stableford (HCPI-relevant) \n9 + 18 Loch für Damen und Herren
URL:https://www.golfclub-sittensen.de/turnier-events/off-senioren-seniorinnengolf-15/
LOCATION:Golfclub Königshof Sittensen e.V.\, Alpershausener Weg 60\, Sittensen\, 27419\, Deutschland
END:VEVENT
BEGIN:VEVENT
DTSTART;TZID=UTC:20250808T180000
DTEND;TZID=UTC:20250808T203000
DTSTAMP:20260422T101232
CREATED:20241105T142136Z
LAST-MODIFIED:20250804T092756Z
UID:8084-1754676000-1754685000@www.golfclub-sittensen.de
SUMMARY:Fridays Open (18) ABGESAGT
DESCRIPTION:Spielart: Einzel Stableford über 9 Löcher\, HCPI-relevant \nHier geht es zur Ausschreibung…
URL:https://www.golfclub-sittensen.de/turnier-events/fridays-open-18-2/
LOCATION:Golfclub Königshof Sittensen e.V.\, Alpershausener Weg 60\, Sittensen\, 27419\, Deutschland
END:VEVENT
BEGIN:VEVENT
DTSTART;VALUE=DATE:20250809
DTEND;VALUE=DATE:20250811
DTSTAMP:20260422T101232
CREATED:20241118T154456Z
LAST-MODIFIED:20241118T154456Z
UID:8313-1754697600-1754870399@www.golfclub-sittensen.de
SUMMARY:GVNB MM AK 50 Gruppe 2
DESCRIPTION:
URL:https://www.golfclub-sittensen.de/turnier-events/gvnb-mm-ak-50-gruppe-2/
LOCATION:Golfclub Königshof Sittensen e.V.\, Alpershausener Weg 60\, Sittensen\, 27419\, Deutschland
END:VEVENT
BEGIN:VEVENT
DTSTART;TZID=UTC:20250813T110000
DTEND;TZID=UTC:20250813T150000
DTSTAMP:20260422T101232
CREATED:20241105T095400Z
LAST-MODIFIED:20241227T121641Z
UID:7995-1755082800-1755097200@www.golfclub-sittensen.de
SUMMARY:MiDaGolferinnen\, Golfspaß
DESCRIPTION:
URL:https://www.golfclub-sittensen.de/turnier-events/midagolferinnen-30/
LOCATION:Golfclub Königshof Sittensen e.V.\, Alpershausener Weg 60\, Sittensen\, 27419\, Deutschland
END:VEVENT
BEGIN:VEVENT
DTSTART;TZID=UTC:20250813T173000
DTEND;TZID=UTC:20250813T200000
DTSTAMP:20260422T101232
CREATED:20241118T154614Z
LAST-MODIFIED:20250304T110207Z
UID:8315-1755106200-1755115200@www.golfclub-sittensen.de
SUMMARY:Off. Mercedes Benz AWGC (10)
DESCRIPTION:Spielart: Stableford\, 9 Loch\, HCPI-relevant\, Kanonenstart \nHier geht es zur Ausschreibung…
URL:https://www.golfclub-sittensen.de/turnier-events/off-mercedes-benz-awgc-10-3/
LOCATION:Golfclub Königshof Sittensen e.V.\, Alpershausener Weg 60\, Sittensen\, 27419\, Deutschland
END:VEVENT
BEGIN:VEVENT
DTSTART;TZID=UTC:20250814T100000
DTEND;TZID=UTC:20250814T150000
DTSTAMP:20260422T101232
CREATED:20241105T151219Z
LAST-MODIFIED:20241105T151219Z
UID:8127-1755165600-1755183600@www.golfclub-sittensen.de
SUMMARY:Seniorengolf
DESCRIPTION:
URL:https://www.golfclub-sittensen.de/turnier-events/seniorengolf-45/
LOCATION:Golfclub Königshof Sittensen e.V.\, Alpershausener Weg 60\, Sittensen\, 27419\, Deutschland
END:VEVENT
BEGIN:VEVENT
DTSTART;TZID=UTC:20250815T173000
DTEND;TZID=UTC:20250815T200000
DTSTAMP:20260422T101232
CREATED:20241105T142242Z
LAST-MODIFIED:20250227T093553Z
UID:8086-1755279000-1755288000@www.golfclub-sittensen.de
SUMMARY:Fridays Open (19)
DESCRIPTION:Spielart: Einzel Stableford über 9 Löcher\, HCPI-relevant \nHier geht es zur Ausschreibung…
URL:https://www.golfclub-sittensen.de/turnier-events/fridays-open-19-2/
LOCATION:Golfclub Königshof Sittensen e.V.\, Alpershausener Weg 60\, Sittensen\, 27419\, Deutschland
END:VEVENT
BEGIN:VEVENT
DTSTART;VALUE=DATE:20250816
DTEND;VALUE=DATE:20250817
DTSTAMP:20260422T101232
CREATED:20250110T163105Z
LAST-MODIFIED:20250110T163105Z
UID:8512-1755302400-1755388799@www.golfclub-sittensen.de
SUMMARY:Heimspiel Jungsenioren I und II
DESCRIPTION:
URL:https://www.golfclub-sittensen.de/turnier-events/heimspiel-jungsenioren-i-und-ii-2/
LOCATION:Golfclub Königshof Sittensen e.V.\, Alpershausener Weg 60\, Sittensen\, 27419\, Deutschland
ORGANIZER;CN="Golfclub K%C3%B6nigshof Sittensen e.V.":MAILTO:www.golfclub-sittensen.de
END:VEVENT
BEGIN:VEVENT
DTSTART;TZID=UTC:20250817T100000
DTEND;TZID=UTC:20250817T150000
DTSTAMP:20260422T101232
CREATED:20241118T154729Z
LAST-MODIFIED:20250331T175323Z
UID:8317-1755424800-1755442800@www.golfclub-sittensen.de
SUMMARY:Gastro Cup
DESCRIPTION:
URL:https://www.golfclub-sittensen.de/turnier-events/gastro-cup-2/
LOCATION:Golfclub Königshof Sittensen e.V.\, Alpershausener Weg 60\, Sittensen\, 27419\, Deutschland
END:VEVENT
BEGIN:VEVENT
DTSTART;TZID=UTC:20250820T110000
DTEND;TZID=UTC:20250820T150000
DTSTAMP:20260422T101232
CREATED:20241105T095439Z
LAST-MODIFIED:20241105T095439Z
UID:7997-1755687600-1755702000@www.golfclub-sittensen.de
SUMMARY:MiDaGolferinnen
DESCRIPTION:
URL:https://www.golfclub-sittensen.de/turnier-events/midagolferinnen-31/
LOCATION:Golfclub Königshof Sittensen e.V.\, Alpershausener Weg 60\, Sittensen\, 27419\, Deutschland
END:VEVENT
BEGIN:VEVENT
DTSTART;TZID=UTC:20250820T173000
DTEND;TZID=UTC:20250820T193000
DTSTAMP:20260422T101232
CREATED:20241118T154820Z
LAST-MODIFIED:20250304T110317Z
UID:8319-1755711000-1755718200@www.golfclub-sittensen.de
SUMMARY:Off. Mercedes Benz AWGC (11)
DESCRIPTION:9 Loch\, HCPI-relevant\, Kanonenstart \nHier geht es zur Ausschreibung…
URL:https://www.golfclub-sittensen.de/turnier-events/off-mercedes-benz-awgc-11-2/
LOCATION:Golfclub Königshof Sittensen e.V.\, Alpershausener Weg 60\, Sittensen\, 27419\, Deutschland
END:VEVENT
BEGIN:VEVENT
DTSTART;TZID=UTC:20250821T100000
DTEND;TZID=UTC:20250821T150000
DTSTAMP:20260422T101232
CREATED:20241105T151306Z
LAST-MODIFIED:20241105T151306Z
UID:8129-1755770400-1755788400@www.golfclub-sittensen.de
SUMMARY:Seniorengolf
DESCRIPTION:
URL:https://www.golfclub-sittensen.de/turnier-events/seniorengolf-46/
LOCATION:Golfclub Königshof Sittensen e.V.\, Alpershausener Weg 60\, Sittensen\, 27419\, Deutschland
END:VEVENT
BEGIN:VEVENT
DTSTART;TZID=UTC:20250822T173000
DTEND;TZID=UTC:20250822T200000
DTSTAMP:20260422T101232
CREATED:20241105T142344Z
LAST-MODIFIED:20250227T093712Z
UID:8088-1755883800-1755892800@www.golfclub-sittensen.de
SUMMARY:Fridays Open (20)
DESCRIPTION:Spielart: Einzel Stableford über 9 Löcher\, HCPI-relevant \nHier geht es zur Ausschreibung…
URL:https://www.golfclub-sittensen.de/turnier-events/fridays-open-20-2/
LOCATION:Golfclub Königshof Sittensen e.V.\, Alpershausener Weg 60\, Sittensen\, 27419\, Deutschland
END:VEVENT
BEGIN:VEVENT
DTSTART;TZID=UTC:20250823T110000
DTEND;TZID=UTC:20250823T110000
DTSTAMP:20260422T101232
CREATED:20241118T151557Z
LAST-MODIFIED:20250604T185025Z
UID:8303-1755946800-1755946800@www.golfclub-sittensen.de
SUMMARY:Off. Benefiz-Turnier zugunsten der Deutschen Krebshilfe
DESCRIPTION:Golf spielen für den guten Zweck. \nSpielart: 18 Loch\, Stableford\, HCPI-relevant\, Kanonenstart \nHier geht es zur Ausschreibung…
URL:https://www.golfclub-sittensen.de/turnier-events/off-benefiz-turnier-zugunsten-der-deutschen-krebshilfe/
LOCATION:Golfclub Königshof Sittensen e.V.\, Alpershausener Weg 60\, Sittensen\, 27419\, Deutschland
END:VEVENT
BEGIN:VEVENT
DTSTART;TZID=UTC:20250824T130000
DTEND;TZID=UTC:20250824T150000
DTSTAMP:20260422T101232
CREATED:20241118T154938Z
LAST-MODIFIED:20241118T154938Z
UID:8321-1756040400-1756047600@www.golfclub-sittensen.de
SUMMARY:Beginner Cup
DESCRIPTION:
URL:https://www.golfclub-sittensen.de/turnier-events/beginner-cup-18/
LOCATION:Golfclub Königshof Sittensen e.V.\, Alpershausener Weg 60\, Sittensen\, 27419\, Deutschland
END:VEVENT
BEGIN:VEVENT
DTSTART;TZID=UTC:20250827T110000
DTEND;TZID=UTC:20250827T140000
DTSTAMP:20260422T101232
CREATED:20241105T085059Z
LAST-MODIFIED:20241105T085059Z
UID:7960-1756292400-1756303200@www.golfclub-sittensen.de
SUMMARY:Ladies Day
DESCRIPTION:HCPI-relevant\, Stableford\, 9 / 18 Loch
URL:https://www.golfclub-sittensen.de/turnier-events/ladies-day-7/
LOCATION:Golfclub Königshof Sittensen e.V.\, Alpershausener Weg 60\, Sittensen\, 27419\, Deutschland
END:VEVENT
BEGIN:VEVENT
DTSTART;TZID=UTC:20250828T100000
DTEND;TZID=UTC:20250828T150000
DTSTAMP:20260422T101232
CREATED:20241105T151403Z
LAST-MODIFIED:20241105T151403Z
UID:8131-1756375200-1756393200@www.golfclub-sittensen.de
SUMMARY:Seniorengolf
DESCRIPTION:
URL:https://www.golfclub-sittensen.de/turnier-events/seniorengolf-47/
LOCATION:Golfclub Königshof Sittensen e.V.\, Alpershausener Weg 60\, Sittensen\, 27419\, Deutschland
END:VEVENT
BEGIN:VEVENT
DTSTART;TZID=UTC:20250829T170000
DTEND;TZID=UTC:20250829T193000
DTSTAMP:20260422T101232
CREATED:20241105T153917Z
LAST-MODIFIED:20250227T093812Z
UID:8090-1756486800-1756495800@www.golfclub-sittensen.de
SUMMARY:Fridays Open (21)
DESCRIPTION:Spielart: Einzel Stableford über 9 Löcher\, HCPI-relevant \nHier geht es zur Ausschreibung…
URL:https://www.golfclub-sittensen.de/turnier-events/fridays-open-22-3/
LOCATION:Golfclub Königshof Sittensen e.V.\, Alpershausener Weg 60\, Sittensen\, 27419\, Deutschland
END:VEVENT
BEGIN:VEVENT
DTSTART;TZID=UTC:20250830T110000
DTEND;TZID=UTC:20250830T150000
DTSTAMP:20260422T101232
CREATED:20241118T155413Z
LAST-MODIFIED:20241118T155413Z
UID:8325-1756551600-1756566000@www.golfclub-sittensen.de
SUMMARY:Mannschafts-Cup 2025
DESCRIPTION:
URL:https://www.golfclub-sittensen.de/turnier-events/mannschafts-cup-2025/
LOCATION:Golfclub Königshof Sittensen e.V.\, Alpershausener Weg 60\, Sittensen\, 27419\, Deutschland
END:VEVENT
BEGIN:VEVENT
DTSTART;TZID=UTC:20250831T100000
DTEND;TZID=UTC:20250831T150000
DTSTAMP:20260422T101232
CREATED:20250110T163442Z
LAST-MODIFIED:20250225T144920Z
UID:8516-1756634400-1756652400@www.golfclub-sittensen.de
SUMMARY:Off. Monatspreis STRAWBERRY by Golf.de ( 9 + 18 Loch)
DESCRIPTION:Hier geht es zur Ausschreibung…
URL:https://www.golfclub-sittensen.de/turnier-events/off-monatspreis-strawberrx-by-golf-de-9-18-loch/
END:VEVENT
END:VCALENDAR