BEGIN:VCALENDAR
VERSION:2.0
PRODID:-//Golfclub Sittensen - ECPv6.10.1//NONSGML v1.0//EN
CALSCALE:GREGORIAN
METHOD:PUBLISH
X-ORIGINAL-URL:https://www.golfclub-sittensen.de
X-WR-CALDESC:Veranstaltungen für Golfclub Sittensen
REFRESH-INTERVAL;VALUE=DURATION:PT1H
X-Robots-Tag:noindex
X-PUBLISHED-TTL:PT1H
BEGIN:VTIMEZONE
TZID:UTC
BEGIN:STANDARD
TZOFFSETFROM:+0000
TZOFFSETTO:+0000
TZNAME:UTC
DTSTART:20240101T000000
END:STANDARD
END:VTIMEZONE
BEGIN:VEVENT
DTSTART;TZID=UTC:20240401T110000
DTEND;TZID=UTC:20240401T150000
DTSTAMP:20260421T130510
CREATED:20231119T115255Z
LAST-MODIFIED:20240303T080945Z
UID:5675-1711969200-1711983600@www.golfclub-sittensen.de
SUMMARY:Off. Ostervierer
DESCRIPTION:Dieses Turnier wird immer mit ganz viel Herz und Engagement seitens der Jugend in unserem Golfclub ausgerichtet. Der gesamte Erlös und das Nenngeld werden der Jugendarbeit zur Verfügung gestellt. Diese freuen sich über eine große Beteiligung. \nGespielt wird ein Chapman- Vierer Zählspiel. Alle Informationen zu diesem Turnier findet ihr in der beigefügten Ausschreibung. \nHier geht es zur Ausschreibung… \n 
URL:https://www.golfclub-sittensen.de/turnier-events/off-ostervierer-2/
LOCATION:Golfclub Königshof Sittensen e.V.\, Alpershausener Weg 60\, Sittensen\, 27419\, Deutschland
ORGANIZER;CN="Golfclub K%C3%B6nigshof Sittensen e.V.":MAILTO:www.golfclub-sittensen.de
END:VEVENT
BEGIN:VEVENT
DTSTART;TZID=UTC:20240403T110000
DTEND;TZID=UTC:20240403T150000
DTSTAMP:20260421T130510
CREATED:20231116T150211Z
LAST-MODIFIED:20240321T120851Z
UID:5596-1712142000-1712156400@www.golfclub-sittensen.de
SUMMARY:Eröffnungsspiel der Damen
DESCRIPTION:Hier geht es zur Ausschreibung…
URL:https://www.golfclub-sittensen.de/turnier-events/eroeffnungsspiel-der-damen/
LOCATION:Golfclub Königshof Sittensen e.V.\, Alpershausener Weg 60\, Sittensen\, 27419\, Deutschland
END:VEVENT
BEGIN:VEVENT
DTSTART;TZID=UTC:20240404T100000
DTEND;TZID=UTC:20240404T140000
DTSTAMP:20260421T130510
CREATED:20231117T102407Z
LAST-MODIFIED:20240403T125623Z
UID:5636-1712224800-1712239200@www.golfclub-sittensen.de
SUMMARY:Absage - Offenes Senioren - / Seniorinnengolf
DESCRIPTION:Aufgrund der Wassermassen auf unserem Golfplatz müssen wir das Turnier leider absagen!
URL:https://www.golfclub-sittensen.de/turnier-events/offenes-senioren-seniorinnengolf/
LOCATION:Golfclub Königshof Sittensen e.V.\, Alpershausener Weg 60\, Sittensen\, 27419\, Deutschland
ORGANIZER;CN="Golfclub K%C3%B6nigshof Sittensen e.V.":MAILTO:www.golfclub-sittensen.de
END:VEVENT
BEGIN:VEVENT
DTSTART;TZID=UTC:20240405T170000
DTEND;TZID=UTC:20240405T170000
DTSTAMP:20260421T130510
CREATED:20231228T163410Z
LAST-MODIFIED:20240403T125411Z
UID:5951-1712336400-1712336400@www.golfclub-sittensen.de
SUMMARY:Absage - Fridays Open (1)
DESCRIPTION:Aufgrund der Wassermassen auf unserem Golfplatz müssen wir das Turnier Fridays Open am 05. April 2024 leider absagen.
URL:https://www.golfclub-sittensen.de/turnier-events/fridays-open-1/
LOCATION:Golfclub Königshof Sittensen e.V.\, Alpershausener Weg 60\, Sittensen\, 27419\, Deutschland
END:VEVENT
BEGIN:VEVENT
DTSTART;TZID=UTC:20240406T130000
DTEND;TZID=UTC:20240406T150000
DTSTAMP:20260421T130510
CREATED:20231119T115423Z
LAST-MODIFIED:20231119T115423Z
UID:5677-1712408400-1712415600@www.golfclub-sittensen.de
SUMMARY:Beginner Treffen
DESCRIPTION:
URL:https://www.golfclub-sittensen.de/turnier-events/beginner-treffen-10/
LOCATION:Golfclub Königshof Sittensen e.V.\, Alpershausener Weg 60\, Sittensen\, 27419\, Deutschland
ORGANIZER;CN="Golfclub K%C3%B6nigshof Sittensen e.V.":MAILTO:www.golfclub-sittensen.de
END:VEVENT
BEGIN:VEVENT
DTSTART;TZID=UTC:20240410T110000
DTEND;TZID=UTC:20240410T150000
DTSTAMP:20260421T130510
CREATED:20231228T164714Z
LAST-MODIFIED:20240411T085629Z
UID:5964-1712746800-1712761200@www.golfclub-sittensen.de
SUMMARY:Absage - MiDaGolferinnen
DESCRIPTION:
URL:https://www.golfclub-sittensen.de/turnier-events/midagolferinnen/
LOCATION:Golfclub Königshof Sittensen e.V.\, Alpershausener Weg 60\, Sittensen\, 27419\, Deutschland
END:VEVENT
BEGIN:VEVENT
DTSTART;TZID=UTC:20240411T100000
DTEND;TZID=UTC:20240411T150000
DTSTAMP:20260421T130510
CREATED:20231228T165006Z
LAST-MODIFIED:20240411T085714Z
UID:5969-1712829600-1712847600@www.golfclub-sittensen.de
SUMMARY:Absage - Seniorengolf
DESCRIPTION:
URL:https://www.golfclub-sittensen.de/turnier-events/seniorengolf-17/
LOCATION:Golfclub Königshof Sittensen e.V.\, Alpershausener Weg 60\, Sittensen\, 27419\, Deutschland
ORGANIZER;CN="Golfclub K%C3%B6nigshof Sittensen e.V.":MAILTO:www.golfclub-sittensen.de
END:VEVENT
BEGIN:VEVENT
DTSTART;TZID=UTC:20240412T170000
DTEND;TZID=UTC:20240412T190000
DTSTAMP:20260421T130510
CREATED:20231228T163519Z
LAST-MODIFIED:20240411T085756Z
UID:5953-1712941200-1712948400@www.golfclub-sittensen.de
SUMMARY:Absage - Fridays Open (2)
DESCRIPTION:Spielart:  Einzel Stableford über 9 Löcher\, HCPI-relevant \nHier geht es zur Ausschreibung…
URL:https://www.golfclub-sittensen.de/turnier-events/fridaya-open-2/
LOCATION:Golfclub Königshof Sittensen e.V.\, Alpershausener Weg 60\, Sittensen\, 27419\, Deutschland
END:VEVENT
BEGIN:VEVENT
DTSTART;TZID=UTC:20240413T100000
DTEND;TZID=UTC:20240413T150000
DTSTAMP:20260421T130510
CREATED:20231119T115706Z
LAST-MODIFIED:20240411T085855Z
UID:5679-1713002400-1713020400@www.golfclub-sittensen.de
SUMMARY:Absage - Memorial Cup der Monday Fighter
DESCRIPTION:
URL:https://www.golfclub-sittensen.de/turnier-events/memorial-cup-der-monday-fighter/
LOCATION:Golfclub Königshof Sittensen e.V.\, Alpershausener Weg 60\, Sittensen\, 27419\, Deutschland
ORGANIZER;CN="Golfclub K%C3%B6nigshof Sittensen e.V.":MAILTO:www.golfclub-sittensen.de
END:VEVENT
BEGIN:VEVENT
DTSTART;TZID=UTC:20240414T110000
DTEND;TZID=UTC:20240414T130000
DTSTAMP:20260421T130510
CREATED:20231116T143651Z
LAST-MODIFIED:20231116T143651Z
UID:5565-1713092400-1713099600@www.golfclub-sittensen.de
SUMMARY:Schnuppergolfen
DESCRIPTION:Dauer: 2 Stunden\, Beginn: 11.00 Uhr \nMindestteilnehmerzahl: 5 Personen \nAktionspreis: 15\,00 € p. P.
URL:https://www.golfclub-sittensen.de/turnier-events/schnuppergolfen/
LOCATION:Golfclub Königshof Sittensen e.V.\, Alpershausener Weg 60\, Sittensen\, 27419\, Deutschland
END:VEVENT
BEGIN:VEVENT
DTSTART;TZID=UTC:20240417T110000
DTEND;TZID=UTC:20240417T150000
DTSTAMP:20260421T130510
CREATED:20231116T150318Z
LAST-MODIFIED:20240109T155258Z
UID:5598-1713351600-1713366000@www.golfclub-sittensen.de
SUMMARY:Golfspaß der Damen
DESCRIPTION:9 oder 18 Loch
URL:https://www.golfclub-sittensen.de/turnier-events/golfspass-der-damen/
LOCATION:Golfclub Königshof Sittensen e.V.\, Alpershausener Weg 60\, Sittensen\, 27419\, Deutschland
END:VEVENT
BEGIN:VEVENT
DTSTART;TZID=UTC:20240418T100000
DTEND;TZID=UTC:20240418T150000
DTSTAMP:20260421T130510
CREATED:20231228T165058Z
LAST-MODIFIED:20231228T165058Z
UID:5972-1713434400-1713452400@www.golfclub-sittensen.de
SUMMARY:Seniorengolf
DESCRIPTION:
URL:https://www.golfclub-sittensen.de/turnier-events/seniorengolf-18/
LOCATION:Golfclub Königshof Sittensen e.V.\, Alpershausener Weg 60\, Sittensen\, 27419\, Deutschland
END:VEVENT
BEGIN:VEVENT
DTSTART;TZID=UTC:20240419T173000
DTEND;TZID=UTC:20240419T193000
DTSTAMP:20260421T130510
CREATED:20231228T163855Z
LAST-MODIFIED:20240321T121755Z
UID:5955-1713547800-1713555000@www.golfclub-sittensen.de
SUMMARY:Fridays Open (3)
DESCRIPTION:Spielart: Einzel Stableford über 9 Löcher\, HCPI-relevant \nHier geht es zur Ausschreibung…
URL:https://www.golfclub-sittensen.de/turnier-events/fridays-open-3/
LOCATION:Golfclub Königshof Sittensen e.V.\, Alpershausener Weg 60\, Sittensen\, 27419\, Deutschland
END:VEVENT
BEGIN:VEVENT
DTSTART;TZID=UTC:20240420T100000
DTEND;TZID=UTC:20240420T163000
DTSTAMP:20260421T130510
CREATED:20240121T165643Z
LAST-MODIFIED:20240209T114540Z
UID:6268-1713607200-1713630600@www.golfclub-sittensen.de
SUMMARY:Herrenliga AK 50 I und II
DESCRIPTION:Platz ganztägig gesperrt (Heimspiel)
URL:https://www.golfclub-sittensen.de/turnier-events/heimspiel-ak-50-i-und-ii/
LOCATION:Golfclub Königshof Sittensen e.V.\, Alpershausener Weg 60\, Sittensen\, 27419\, Deutschland
ORGANIZER;CN="Golfclub K%C3%B6nigshof Sittensen e.V.":MAILTO:www.golfclub-sittensen.de
END:VEVENT
BEGIN:VEVENT
DTSTART;TZID=UTC:20240420T110000
DTEND;TZID=UTC:20240420T130000
DTSTAMP:20260421T130510
CREATED:20231116T144655Z
LAST-MODIFIED:20231119T113357Z
UID:5579-1713610800-1713618000@www.golfclub-sittensen.de
SUMMARY:Wochenend-Schnuppergolf
DESCRIPTION:Dauer: Samstag & Sonntag ca. 2 Stunden Training \nBeginn: 11.00 Uhr \nMindestteilnehmerzahl: 5 Personen \nAktionspreis: 59\,00 € p. P.
URL:https://www.golfclub-sittensen.de/turnier-events/wochenende-schnuppergolf/
LOCATION:Golfclub Königshof Sittensen e.V.\, Alpershausener Weg 60\, Sittensen\, 27419\, Deutschland
END:VEVENT
BEGIN:VEVENT
DTSTART;TZID=UTC:20240421T100000
DTEND;TZID=UTC:20240421T150000
DTSTAMP:20260421T130510
CREATED:20231119T120006Z
LAST-MODIFIED:20240404T145449Z
UID:5682-1713693600-1713711600@www.golfclub-sittensen.de
SUMMARY:Monatspreis April by golf.de STRAWBERRY TOUR
DESCRIPTION:Spielart: Stableford (HCPI-relevant)\, 18-Loch \nHier geht es zur Ausschreibung…
URL:https://www.golfclub-sittensen.de/turnier-events/monatspreis-april/
LOCATION:Golfclub Königshof Sittensen e.V.\, Alpershausener Weg 60\, Sittensen\, 27419\, Deutschland
ORGANIZER;CN="Golfclub K%C3%B6nigshof Sittensen e.V.":MAILTO:www.golfclub-sittensen.de
END:VEVENT
BEGIN:VEVENT
DTSTART;TZID=UTC:20240421T110000
DTEND;TZID=UTC:20240421T130000
DTSTAMP:20260421T130510
CREATED:20231119T113508Z
LAST-MODIFIED:20231119T113508Z
UID:5655-1713697200-1713704400@www.golfclub-sittensen.de
SUMMARY:Wochenend-Schnuppergolf
DESCRIPTION:Dauer: Samstag & Sonntag ca. 2 Stunden Training \nBeginn: 11.00 Uhr \nMindestteilnehmerzahl: 5 Personen \nAktionspreis: 59\,00 € p. P.
URL:https://www.golfclub-sittensen.de/turnier-events/wochenend-schnuppergolf-30/
LOCATION:Golfclub Königshof Sittensen e.V.\, Alpershausener Weg 60\, Sittensen\, 27419\, Deutschland
ORGANIZER;CN="Golfclub K%C3%B6nigshof Sittensen e.V.":MAILTO:www.golfclub-sittensen.de
END:VEVENT
BEGIN:VEVENT
DTSTART;TZID=UTC:20240424T110000
DTEND;TZID=UTC:20240424T150000
DTSTAMP:20260421T130510
CREATED:20231228T164816Z
LAST-MODIFIED:20231228T164816Z
UID:5966-1713956400-1713970800@www.golfclub-sittensen.de
SUMMARY:MiDaGolferinnen
DESCRIPTION:
URL:https://www.golfclub-sittensen.de/turnier-events/midagolferinnen-2/
LOCATION:Golfclub Königshof Sittensen e.V.\, Alpershausener Weg 60\, Sittensen\, 27419\, Deutschland
END:VEVENT
BEGIN:VEVENT
DTSTART;TZID=UTC:20240425T100000
DTEND;TZID=UTC:20240425T150000
DTSTAMP:20260421T130510
CREATED:20231228T165155Z
LAST-MODIFIED:20231228T165204Z
UID:5974-1714039200-1714057200@www.golfclub-sittensen.de
SUMMARY:Seniorengolf
DESCRIPTION:
URL:https://www.golfclub-sittensen.de/turnier-events/seniorengolf-19/
LOCATION:Golfclub Königshof Sittensen e.V.\, Alpershausener Weg 60\, Sittensen\, 27419\, Deutschland
CATEGORIES:Wettspielkalender
END:VEVENT
BEGIN:VEVENT
DTSTART;TZID=UTC:20240426T190000
DTEND;TZID=UTC:20240426T210000
DTSTAMP:20260421T130510
CREATED:20231228T164434Z
LAST-MODIFIED:20231228T164434Z
UID:5961-1714158000-1714165200@www.golfclub-sittensen.de
SUMMARY:Mitgliederversammlung
DESCRIPTION:Mitgliederversammlung um 19.00 Uhr im Heimathaus
URL:https://www.golfclub-sittensen.de/turnier-events/mitgliederversammlung-2/
END:VEVENT
BEGIN:VEVENT
DTSTART;TZID=UTC:20240428T100000
DTEND;TZID=UTC:20240428T100000
DTSTAMP:20260421T130510
CREATED:20240201T133100Z
LAST-MODIFIED:20240425T120709Z
UID:6322-1714298400-1714298400@www.golfclub-sittensen.de
SUMMARY:Absage - HTB Saison Eröffnungsturnier
DESCRIPTION:Spielart: Spaßturnier in 2er Teams (Hcp1 + Hcp2 / 2)\nBahnen 1-9: 2er Scramble\nBahnen 10-18: Drive des Partners wird weiter ins Loch gespielt. Je Bahn 1 – 18 nur 1 Score pro Team \nHier geht es zur Ausschreibung….
URL:https://www.golfclub-sittensen.de/turnier-events/htb-saison-eroeffnungsturnier/
LOCATION:Golfclub Königshof Sittensen e.V.\, Alpershausener Weg 60\, Sittensen\, 27419\, Deutschland
ORGANIZER;CN="Golfclub K%C3%B6nigshof Sittensen e.V.":MAILTO:www.golfclub-sittensen.de
END:VEVENT
BEGIN:VEVENT
DTSTART;TZID=UTC:20240428T100000
DTEND;TZID=UTC:20240428T113000
DTSTAMP:20260421T130510
CREATED:20231230T120132Z
LAST-MODIFIED:20240425T124617Z
UID:6157-1714298400-1714303800@www.golfclub-sittensen.de
SUMMARY:Beginner Cup
DESCRIPTION:
URL:https://www.golfclub-sittensen.de/turnier-events/beginner-cup-13/
LOCATION:Golfclub Königshof Sittensen e.V.\, Alpershausener Weg 60\, Sittensen\, 27419\, Deutschland
END:VEVENT
END:VCALENDAR