BEGIN:VCALENDAR
VERSION:2.0
PRODID:-//Golfclub Sittensen - ECPv6.10.1//NONSGML v1.0//EN
CALSCALE:GREGORIAN
METHOD:PUBLISH
X-WR-CALNAME:Golfclub Sittensen
X-ORIGINAL-URL:https://www.golfclub-sittensen.de
X-WR-CALDESC:Veranstaltungen für Golfclub Sittensen
REFRESH-INTERVAL;VALUE=DURATION:PT1H
X-Robots-Tag:noindex
X-PUBLISHED-TTL:PT1H
BEGIN:VTIMEZONE
TZID:UTC
BEGIN:STANDARD
TZOFFSETFROM:+0000
TZOFFSETTO:+0000
TZNAME:UTC
DTSTART:20240101T000000
END:STANDARD
END:VTIMEZONE
BEGIN:VEVENT
DTSTART;TZID=UTC:20240209T080000
DTEND;TZID=UTC:20240209T170000
DTSTAMP:20260421T160949
CREATED:20240209T120113Z
LAST-MODIFIED:20240209T120113Z
UID:6372-1707465600-1707498000@www.golfclub-sittensen.de
SUMMARY:Golfspaß der Damen
DESCRIPTION:Gespielt werden 9 Loch
URL:https://www.golfclub-sittensen.de/turnier-events/golfspass-der-damen-2/
END:VEVENT
END:VCALENDAR