BEGIN:VCALENDAR
VERSION:2.0
PRODID:-//Golfclub Sittensen - ECPv6.10.1//NONSGML v1.0//EN
CALSCALE:GREGORIAN
METHOD:PUBLISH
X-WR-CALNAME:Golfclub Sittensen
X-ORIGINAL-URL:https://www.golfclub-sittensen.de
X-WR-CALDESC:Veranstaltungen für Golfclub Sittensen
REFRESH-INTERVAL;VALUE=DURATION:PT1H
X-Robots-Tag:noindex
X-PUBLISHED-TTL:PT1H
BEGIN:VTIMEZONE
TZID:UTC
BEGIN:STANDARD
TZOFFSETFROM:+0000
TZOFFSETTO:+0000
TZNAME:UTC
DTSTART:20230101T000000
END:STANDARD
END:VTIMEZONE
BEGIN:VEVENT
DTSTART;VALUE=DATE:20231102
DTEND;VALUE=DATE:20231103
DTSTAMP:20260421T202712
CREATED:20221217T102413Z
LAST-MODIFIED:20231031T082920Z
UID:4204-1698883200-1698969599@www.golfclub-sittensen.de
SUMMARY:Jahresversammlung - Weihnachtsessen (Senioren)
DESCRIPTION:
URL:https://www.golfclub-sittensen.de/turnier-events/jahresversammlung-weihnachtsessen-senioren/
END:VEVENT
BEGIN:VEVENT
DTSTART;TZID=UTC:20231129T110000
DTEND;TZID=UTC:20231129T170000
DTSTAMP:20260421T202712
CREATED:20230122T131046Z
LAST-MODIFIED:20230122T131046Z
UID:4268-1701255600-1701277200@www.golfclub-sittensen.de
SUMMARY:Damen Winterrunde + Weihnachtsfeier
DESCRIPTION:Winterrunde mit anschließender Weihnachtsfeier 13:30 Uhr
URL:https://www.golfclub-sittensen.de/turnier-events/damen-winterrunde-weihnachtsfeier/
LOCATION:Golfclub Königshof Sittensen e.V.\, Alpershausener Weg 60\, Sittensen\, 27419\, Deutschland
CATEGORIES:Wettspielkalender
ORGANIZER;CN="Golfclub K%C3%B6nigshof Sittensen e.V.":MAILTO:www.golfclub-sittensen.de
END:VEVENT
END:VCALENDAR