BEGIN:VCALENDAR
VERSION:2.0
PRODID:-//Golfclub Sittensen - ECPv6.10.1//NONSGML v1.0//EN
CALSCALE:GREGORIAN
METHOD:PUBLISH
X-WR-CALNAME:Golfclub Sittensen
X-ORIGINAL-URL:https://www.golfclub-sittensen.de
X-WR-CALDESC:Veranstaltungen für Golfclub Sittensen
REFRESH-INTERVAL;VALUE=DURATION:PT1H
X-Robots-Tag:noindex
X-PUBLISHED-TTL:PT1H
BEGIN:VTIMEZONE
TZID:UTC
BEGIN:STANDARD
TZOFFSETFROM:+0000
TZOFFSETTO:+0000
TZNAME:UTC
DTSTART:20230101T000000
END:STANDARD
END:VTIMEZONE
BEGIN:VEVENT
DTSTART;TZID=UTC:20231001T103000
DTEND;TZID=UTC:20231001T133000
DTSTAMP:20260421T220059
CREATED:20230217T123722Z
LAST-MODIFIED:20230412T113003Z
UID:4527-1696156200-1696167000@www.golfclub-sittensen.de
SUMMARY:Beginner-Cup FINALE
DESCRIPTION:
URL:https://www.golfclub-sittensen.de/turnier-events/beginner-cup-finale-2/
LOCATION:Golfclub Königshof Sittensen e.V.\, Alpershausener Weg 60\, Sittensen\, 27419\, Deutschland
CATEGORIES:Wettspielkalender
ATTACH;FMTTYPE=application/pdf:https://www.golfclub-sittensen.de/wp-content/uploads/2023/02/Kurzausschreibung-Beginner-Cup-2023-6.pdf
ORGANIZER;CN="Golfclub K%C3%B6nigshof Sittensen e.V.":MAILTO:www.golfclub-sittensen.de
END:VEVENT
BEGIN:VEVENT
DTSTART;TZID=UTC:20231003T110000
DTEND;TZID=UTC:20231003T160000
DTSTAMP:20260421T220059
CREATED:20230217T123801Z
LAST-MODIFIED:20230905T071319Z
UID:4529-1696330800-1696348800@www.golfclub-sittensen.de
SUMMARY:Ehepaar-Vierer
DESCRIPTION:Vierer Auswahldrive nach Zählspiel\, nicht HCPI-relevant \nMindestteilnehmer: 16 Paare \nTeilnahmeberechtigt sind Ehepaare und Lebensgemeinschaften die Mitglied im GCK sind. Spieler mit Stammvorgaben 37 – 54 werden mit Stammvorgabe 36 gewertet. \nNenngeld: 25\,00 Euro pro Paar
URL:https://www.golfclub-sittensen.de/turnier-events/ehepaar-vierer-2/
LOCATION:Golfclub Königshof Sittensen e.V.\, Alpershausener Weg 60\, Sittensen\, 27419\, Deutschland
CATEGORIES:Wettspielkalender
ATTACH;FMTTYPE=application/pdf:https://www.golfclub-sittensen.de/wp-content/uploads/2023/02/Kurzausschreibung-Ehepaarwettspiel-2023.pdf
ORGANIZER;CN="Golfclub K%C3%B6nigshof Sittensen e.V.":MAILTO:www.golfclub-sittensen.de
END:VEVENT
BEGIN:VEVENT
DTSTART;TZID=UTC:20231005T100000
DTEND;TZID=UTC:20231005T130000
DTSTAMP:20260421T220059
CREATED:20230217T123840Z
LAST-MODIFIED:20230412T125127Z
UID:4531-1696500000-1696510800@www.golfclub-sittensen.de
SUMMARY:Offenes Senioren- / Seniorinnengolf
DESCRIPTION:
URL:https://www.golfclub-sittensen.de/turnier-events/off-seniorengolf-918-6/
LOCATION:Golfclub Königshof Sittensen e.V.\, Alpershausener Weg 60\, Sittensen\, 27419\, Deutschland
CATEGORIES:Wettspielkalender
ATTACH;FMTTYPE=application/pdf:https://www.golfclub-sittensen.de/wp-content/uploads/2023/02/Turnierausschreibung-Senioren-Seniorinnengolf-2023-5.pdf
ORGANIZER;CN="Golfclub K%C3%B6nigshof Sittensen e.V.":MAILTO:www.golfclub-sittensen.de
END:VEVENT
BEGIN:VEVENT
DTSTART;VALUE=DATE:20231007
DTEND;VALUE=DATE:20231008
DTSTAMP:20260421T220059
CREATED:20230217T123923Z
LAST-MODIFIED:20230217T123923Z
UID:4533-1696636800-1696723199@www.golfclub-sittensen.de
SUMMARY:Monday Fighters Herbstpokal
DESCRIPTION:
URL:https://www.golfclub-sittensen.de/turnier-events/monday-fighters-herbstpokal-2/
LOCATION:Golfclub Königshof Sittensen e.V.\, Alpershausener Weg 60\, Sittensen\, 27419\, Deutschland
CATEGORIES:Wettspielkalender
ORGANIZER;CN="Golfclub K%C3%B6nigshof Sittensen e.V.":MAILTO:www.golfclub-sittensen.de
END:VEVENT
BEGIN:VEVENT
DTSTART;TZID=UTC:20231011T110000
DTEND;TZID=UTC:20231011T160000
DTSTAMP:20260421T220059
CREATED:20230122T130839Z
LAST-MODIFIED:20230122T130839Z
UID:4264-1697022000-1697040000@www.golfclub-sittensen.de
SUMMARY:Damen Abschlusswettspiel (9/18)
DESCRIPTION:Scramble
URL:https://www.golfclub-sittensen.de/turnier-events/damen-abschlusswettspiel-9-18/
LOCATION:Golfclub Königshof Sittensen e.V.\, Alpershausener Weg 60\, Sittensen\, 27419\, Deutschland
CATEGORIES:Wettspielkalender
ORGANIZER;CN="Golfclub K%C3%B6nigshof Sittensen e.V.":MAILTO:www.golfclub-sittensen.de
END:VEVENT
BEGIN:VEVENT
DTSTART;TZID=UTC:20231015T100000
DTEND;TZID=UTC:20231015T160000
DTSTAMP:20260421T220059
CREATED:20230122T133227Z
LAST-MODIFIED:20230122T133424Z
UID:4288-1697364000-1697385600@www.golfclub-sittensen.de
SUMMARY:Grand Finale
DESCRIPTION:
URL:https://www.golfclub-sittensen.de/turnier-events/grand-finale-3/
LOCATION:Golfclub Königshof Sittensen e.V.\, Alpershausener Weg 60\, Sittensen\, 27419\, Deutschland
CATEGORIES:Wettspielkalender
ORGANIZER;CN="Golfclub K%C3%B6nigshof Sittensen e.V.":MAILTO:www.golfclub-sittensen.de
END:VEVENT
BEGIN:VEVENT
DTSTART;TZID=UTC:20231018T110000
DTEND;TZID=UTC:20231018T160000
DTSTAMP:20260421T220059
CREATED:20230122T130935Z
LAST-MODIFIED:20230122T130935Z
UID:4266-1697626800-1697644800@www.golfclub-sittensen.de
SUMMARY:Beginn Damen Winterrunde (9-Loch)
DESCRIPTION:
URL:https://www.golfclub-sittensen.de/turnier-events/beginn-damen-winterrunde-9-loch/
LOCATION:Golfclub Königshof Sittensen e.V.\, Alpershausener Weg 60\, Sittensen\, 27419\, Deutschland
CATEGORIES:Wettspielkalender
ORGANIZER;CN="Golfclub K%C3%B6nigshof Sittensen e.V.":MAILTO:www.golfclub-sittensen.de
END:VEVENT
BEGIN:VEVENT
DTSTART;VALUE=DATE:20231019
DTEND;VALUE=DATE:20231020
DTSTAMP:20260421T220059
CREATED:20221217T102339Z
LAST-MODIFIED:20230917T115203Z
UID:4202-1697673600-1697759999@www.golfclub-sittensen.de
SUMMARY:Traditionelles Wildessen (Senioren mit Damen)
DESCRIPTION:in Sittensen
URL:https://www.golfclub-sittensen.de/turnier-events/traditionelles-wildessen-senioren-mit-damen/
END:VEVENT
BEGIN:VEVENT
DTSTART;TZID=UTC:20231028T110000
DTEND;TZID=UTC:20231028T150000
DTSTAMP:20260421T220059
CREATED:20230217T124038Z
LAST-MODIFIED:20230217T124038Z
UID:4535-1698490800-1698505200@www.golfclub-sittensen.de
SUMMARY:Wintervergnügen
DESCRIPTION:
URL:https://www.golfclub-sittensen.de/turnier-events/wintervergnuegen-3/
LOCATION:Golfclub Königshof Sittensen e.V.\, Alpershausener Weg 60\, Sittensen\, 27419\, Deutschland
CATEGORIES:Wettspielkalender
ORGANIZER;CN="Golfclub K%C3%B6nigshof Sittensen e.V.":MAILTO:www.golfclub-sittensen.de
END:VEVENT
END:VCALENDAR