BEGIN:VCALENDAR
VERSION:2.0
PRODID:-//Golfclub Sittensen - ECPv6.10.1//NONSGML v1.0//EN
CALSCALE:GREGORIAN
METHOD:PUBLISH
X-WR-CALNAME:Golfclub Sittensen
X-ORIGINAL-URL:https://www.golfclub-sittensen.de
X-WR-CALDESC:Veranstaltungen für Golfclub Sittensen
REFRESH-INTERVAL;VALUE=DURATION:PT1H
X-Robots-Tag:noindex
X-PUBLISHED-TTL:PT1H
BEGIN:VTIMEZONE
TZID:UTC
BEGIN:STANDARD
TZOFFSETFROM:+0000
TZOFFSETTO:+0000
TZNAME:UTC
DTSTART:20230101T000000
END:STANDARD
END:VTIMEZONE
BEGIN:VEVENT
DTSTART;TZID=UTC:20230901T170000
DTEND;TZID=UTC:20230901T193000
DTSTAMP:20260421T232822
CREATED:20230217T122417Z
LAST-MODIFIED:20230828T073737Z
UID:4503-1693587600-1693596600@www.golfclub-sittensen.de
SUMMARY:Off. ECCO Day Serie (3)
DESCRIPTION:
URL:https://www.golfclub-sittensen.de/turnier-events/off-ecco-day-serie-3/
LOCATION:Golfclub Königshof Sittensen e.V.\, Alpershausener Weg 60\, Sittensen\, 27419\, Deutschland
CATEGORIES:Wettspielkalender
ORGANIZER;CN="Golfclub K%C3%B6nigshof Sittensen e.V.":MAILTO:www.golfclub-sittensen.de
END:VEVENT
BEGIN:VEVENT
DTSTART;VALUE=DATE:20230902
DTEND;VALUE=DATE:20230903
DTSTAMP:20260421T232822
CREATED:20221217T102110Z
LAST-MODIFIED:20230828T190929Z
UID:4196-1693612800-1693699199@www.golfclub-sittensen.de
SUMMARY:Clubmeisterschaften
DESCRIPTION:
URL:https://www.golfclub-sittensen.de/turnier-events/clubmeisterschaften-der-senioren/
END:VEVENT
BEGIN:VEVENT
DTSTART;VALUE=DATE:20230903
DTEND;VALUE=DATE:20230904
DTSTAMP:20260421T232822
CREATED:20221217T102131Z
LAST-MODIFIED:20230828T191022Z
UID:4198-1693699200-1693785599@www.golfclub-sittensen.de
SUMMARY:Clubmeisterschaften
DESCRIPTION:
URL:https://www.golfclub-sittensen.de/turnier-events/clubmeisterschaften-der-senioren-2/
END:VEVENT
BEGIN:VEVENT
DTSTART;TZID=UTC:20230906T110000
DTEND;TZID=UTC:20230906T160000
DTSTAMP:20260421T232822
CREATED:20230122T130526Z
LAST-MODIFIED:20230122T130526Z
UID:4258-1693998000-1694016000@www.golfclub-sittensen.de
SUMMARY:Ladies Cup
DESCRIPTION:Stableford HCPI relevant
URL:https://www.golfclub-sittensen.de/turnier-events/ladies-cup/
LOCATION:Golfclub Königshof Sittensen e.V.\, Alpershausener Weg 60\, Sittensen\, 27419\, Deutschland
CATEGORIES:Wettspielkalender
ORGANIZER;CN="Golfclub K%C3%B6nigshof Sittensen e.V.":MAILTO:www.golfclub-sittensen.de
END:VEVENT
BEGIN:VEVENT
DTSTART;TZID=UTC:20230906T173000
DTEND;TZID=UTC:20230906T193000
DTSTAMP:20260421T232822
CREATED:20230217T122521Z
LAST-MODIFIED:20230412T121800Z
UID:4505-1694021400-1694028600@www.golfclub-sittensen.de
SUMMARY:Off. MBAWGC Serie (13) - Bahnen 1 -9
DESCRIPTION:Die Anmeldung für die Mercedes-Benz AWGC 2023 Serie erfolgt ausschließlich über awgc.de!
URL:https://www.golfclub-sittensen.de/turnier-events/off-mbawgc-serie-13/
LOCATION:Golfclub Königshof Sittensen e.V.\, Alpershausener Weg 60\, Sittensen\, 27419\, Deutschland
CATEGORIES:Wettspielkalender
ATTACH;FMTTYPE=application/pdf:https://www.golfclub-sittensen.de/wp-content/uploads/2023/02/Kurzausschreibung-Mercedes-Benz-AWGC-2023_mit-Logo-Tesmer-12.pdf
ORGANIZER;CN="Golfclub K%C3%B6nigshof Sittensen e.V.":MAILTO:www.golfclub-sittensen.de
END:VEVENT
BEGIN:VEVENT
DTSTART;TZID=UTC:20230907T100000
DTEND;TZID=UTC:20230907T130000
DTSTAMP:20260421T232822
CREATED:20230217T122559Z
LAST-MODIFIED:20230412T124617Z
UID:4507-1694080800-1694091600@www.golfclub-sittensen.de
SUMMARY:Offenes Senioren- / Seniorinnengolf
DESCRIPTION:
URL:https://www.golfclub-sittensen.de/turnier-events/off-seniorengolf-918-5/
LOCATION:Golfclub Königshof Sittensen e.V.\, Alpershausener Weg 60\, Sittensen\, 27419\, Deutschland
CATEGORIES:Wettspielkalender
ATTACH;FMTTYPE=application/pdf:https://www.golfclub-sittensen.de/wp-content/uploads/2023/02/Turnierausschreibung-Senioren-Seniorinnengolf-2023-4.pdf
ORGANIZER;CN="Golfclub K%C3%B6nigshof Sittensen e.V.":MAILTO:www.golfclub-sittensen.de
END:VEVENT
BEGIN:VEVENT
DTSTART;TZID=UTC:20230908T170000
DTEND;TZID=UTC:20230908T183000
DTSTAMP:20260421T232822
CREATED:20230217T122843Z
LAST-MODIFIED:20230824T100913Z
UID:4509-1694192400-1694197800@www.golfclub-sittensen.de
SUMMARY:Off. ECCO Day Serie (4)
DESCRIPTION:
URL:https://www.golfclub-sittensen.de/turnier-events/off-ecco-day-serie-4/
LOCATION:Golfclub Königshof Sittensen e.V.\, Alpershausener Weg 60\, Sittensen\, 27419\, Deutschland
CATEGORIES:Wettspielkalender
ORGANIZER;CN="Golfclub K%C3%B6nigshof Sittensen e.V.":MAILTO:www.golfclub-sittensen.de
END:VEVENT
BEGIN:VEVENT
DTSTART;TZID=UTC:20230909T100000
DTEND;TZID=UTC:20230909T143000
DTSTAMP:20260421T232822
CREATED:20230217T122918Z
LAST-MODIFIED:20230217T122918Z
UID:4511-1694253600-1694269800@www.golfclub-sittensen.de
SUMMARY:HTB Open
DESCRIPTION:
URL:https://www.golfclub-sittensen.de/turnier-events/htb-open-2/
LOCATION:Golfclub Königshof Sittensen e.V.\, Alpershausener Weg 60\, Sittensen\, 27419\, Deutschland
CATEGORIES:Wettspielkalender
ORGANIZER;CN="Golfclub K%C3%B6nigshof Sittensen e.V.":MAILTO:www.golfclub-sittensen.de
END:VEVENT
BEGIN:VEVENT
DTSTART;TZID=UTC:20230910T110000
DTEND;TZID=UTC:20230910T130000
DTSTAMP:20260421T232822
CREATED:20221216T120145Z
LAST-MODIFIED:20230122T135545Z
UID:4142-1694343600-1694350800@www.golfclub-sittensen.de
SUMMARY:Schnuppergolf
DESCRIPTION:Kurze Einweisung in Griff\, Stand\, Haltung und Schwungtechnik\nErlernen des „Einlochens“- Putten auf dem Grün\nGolfschläger und Übungsbälle werden leihweise zur Verfügung gestellt\n\nWeitere Informationen sind im Flyer zu finden >> Link Flyer
URL:https://www.golfclub-sittensen.de/turnier-events/schnuppergolf-12/
LOCATION:Golfclub Königshof Sittensen e.V.\, Alpershausener Weg 60\, Sittensen\, 27419\, Deutschland
ATTACH;FMTTYPE=application/pdf:https://www.golfclub-sittensen.de/wp-content/uploads/2022/12/Schnupperkurse-Ausschreibung-Termine-2023_A5-13.pdf
ORGANIZER;CN="Golfclub K%C3%B6nigshof Sittensen e.V.":MAILTO:www.golfclub-sittensen.de
END:VEVENT
BEGIN:VEVENT
DTSTART;TZID=UTC:20230913T110000
DTEND;TZID=UTC:20230913T160000
DTSTAMP:20260421T232822
CREATED:20230122T130630Z
LAST-MODIFIED:20230122T130630Z
UID:4260-1694602800-1694620800@www.golfclub-sittensen.de
SUMMARY:Heideblütenturnier
DESCRIPTION:Scramble
URL:https://www.golfclub-sittensen.de/turnier-events/heidebluetenturnier-2/
LOCATION:Golfclub Königshof Sittensen e.V.\, Alpershausener Weg 60\, Sittensen\, 27419\, Deutschland
CATEGORIES:Wettspielkalender
ORGANIZER;CN="Golfclub K%C3%B6nigshof Sittensen e.V.":MAILTO:www.golfclub-sittensen.de
END:VEVENT
BEGIN:VEVENT
DTSTART;TZID=UTC:20230913T170000
DTEND;TZID=UTC:20230913T193000
DTSTAMP:20260421T232822
CREATED:20230217T123000Z
LAST-MODIFIED:20230412T122436Z
UID:4513-1694624400-1694633400@www.golfclub-sittensen.de
SUMMARY:Off. MBAWGC Serie (14) - Bahnen 10 - 18
DESCRIPTION:Die Anmeldung für die Mercedes-Benz AWGC 2023 Serie erfolgt ausschließlich über awgc.de!
URL:https://www.golfclub-sittensen.de/turnier-events/offenes-mercedes-benz-after-work-turnier-im-golfclub-koenigshof-sittensen/
LOCATION:Golfclub Königshof Sittensen e.V.\, Alpershausener Weg 60\, Sittensen\, 27419\, Deutschland
CATEGORIES:Wettspielkalender
ATTACH;FMTTYPE=application/pdf:https://www.golfclub-sittensen.de/wp-content/uploads/2023/02/Kurzausschreibung-Mercedes-Benz-AWGC-2023_mit-Logo-Tesmer-13.pdf
ORGANIZER;CN="Golfclub K%C3%B6nigshof Sittensen e.V.":MAILTO:www.golfclub-sittensen.de
END:VEVENT
BEGIN:VEVENT
DTSTART;VALUE=DATE:20230914
DTEND;VALUE=DATE:20230915
DTSTAMP:20260421T232822
CREATED:20221217T102259Z
LAST-MODIFIED:20221217T102259Z
UID:4200-1694649600-1694735999@www.golfclub-sittensen.de
SUMMARY:Freundschaftsspiel Sittensen / Tietlingen (Senioren mit Damen)
DESCRIPTION:In Sittensen
URL:https://www.golfclub-sittensen.de/turnier-events/freundschaftsspiel-sittensen-tietlingen-senioren-mit-damen/
END:VEVENT
BEGIN:VEVENT
DTSTART;TZID=UTC:20230915T163000
DTEND;TZID=UTC:20230915T190000
DTSTAMP:20260421T232822
CREATED:20230217T123043Z
LAST-MODIFIED:20230217T123043Z
UID:4515-1694795400-1694804400@www.golfclub-sittensen.de
SUMMARY:Off. ECCO Day Serie (5)
DESCRIPTION:
URL:https://www.golfclub-sittensen.de/turnier-events/off-ecco-day-serie-5/
LOCATION:Golfclub Königshof Sittensen e.V.\, Alpershausener Weg 60\, Sittensen\, 27419\, Deutschland
CATEGORIES:Wettspielkalender
ORGANIZER;CN="Golfclub K%C3%B6nigshof Sittensen e.V.":MAILTO:www.golfclub-sittensen.de
END:VEVENT
BEGIN:VEVENT
DTSTART;TZID=UTC:20230916T100000
DTEND;TZID=UTC:20230916T160000
DTSTAMP:20260421T232822
CREATED:20230217T123155Z
LAST-MODIFIED:20230217T123155Z
UID:4517-1694858400-1694880000@www.golfclub-sittensen.de
SUMMARY:LBSV Turnier
DESCRIPTION:
URL:https://www.golfclub-sittensen.de/turnier-events/lbsv-turnier/
LOCATION:Golfclub Königshof Sittensen e.V.\, Alpershausener Weg 60\, Sittensen\, 27419\, Deutschland
CATEGORIES:Wettspielkalender
ORGANIZER;CN="Golfclub K%C3%B6nigshof Sittensen e.V.":MAILTO:www.golfclub-sittensen.de
END:VEVENT
BEGIN:VEVENT
DTSTART;TZID=UTC:20230916T110000
DTEND;TZID=UTC:20230916T130000
DTSTAMP:20260421T232822
CREATED:20221216T121607Z
LAST-MODIFIED:20230122T134548Z
UID:4171-1694862000-1694869200@www.golfclub-sittensen.de
SUMMARY:Wochenend-Schnuppergolf
DESCRIPTION:Leih-Golfschläger & unbegrenzte Anzahl an Übungsbällen\nKurze Einweisung in Griff\, Stand\, Haltung und Schwungtechnik\nErlernen des „Einlochens“- Putten auf dem Grün\nfreie Nutzung sämtlicher Übungsanlagen des Golfplatzes an beiden Kurstagen\, auch nach dem Training!\n\nWeitere Informationen sind im Flyer zu finden >> Link Flyer
URL:https://www.golfclub-sittensen.de/turnier-events/wochenend-schnuppergolf-23/
LOCATION:Golfclub Königshof Sittensen e.V.\, Alpershausener Weg 60\, Sittensen\, 27419\, Deutschland
ATTACH;FMTTYPE=application/pdf:https://www.golfclub-sittensen.de/wp-content/uploads/2022/12/Schnupperkurse-Ausschreibung-Termine-2023_A5-2.pdf
ORGANIZER;CN="Golfclub K%C3%B6nigshof Sittensen e.V.":MAILTO:www.golfclub-sittensen.de
END:VEVENT
BEGIN:VEVENT
DTSTART;TZID=UTC:20230917T100000
DTEND;TZID=UTC:20230917T150000
DTSTAMP:20260421T232822
CREATED:20230217T123411Z
LAST-MODIFIED:20230217T123411Z
UID:4521-1694944800-1694962800@www.golfclub-sittensen.de
SUMMARY:BSV - Turnier - Airbus Bremen
DESCRIPTION:
URL:https://www.golfclub-sittensen.de/turnier-events/bsv-turnier-airbus-bremen/
LOCATION:Golfclub Königshof Sittensen e.V.\, Alpershausener Weg 60\, Sittensen\, 27419\, Deutschland
CATEGORIES:Wettspielkalender
ORGANIZER;CN="Golfclub K%C3%B6nigshof Sittensen e.V.":MAILTO:www.golfclub-sittensen.de
END:VEVENT
BEGIN:VEVENT
DTSTART;TZID=UTC:20230917T110000
DTEND;TZID=UTC:20230917T130000
DTSTAMP:20260421T232822
CREATED:20221216T121639Z
LAST-MODIFIED:20230122T134500Z
UID:4173-1694948400-1694955600@www.golfclub-sittensen.de
SUMMARY:Wochenend-Schnuppergolf
DESCRIPTION:Leih-Golfschläger & unbegrenzte Anzahl an Übungsbällen\nKurze Einweisung in Griff\, Stand\, Haltung und Schwungtechnik\nErlernen des „Einlochens“- Putten auf dem Grün\nfreie Nutzung sämtlicher Übungsanlagen des Golfplatzes an beiden Kurstagen\, auch nach dem Training!\n\nWeitere Informationen sind im Flyer zu finden >> Link Flyer
URL:https://www.golfclub-sittensen.de/turnier-events/wochenend-schnuppergolf-24/
LOCATION:Golfclub Königshof Sittensen e.V.\, Alpershausener Weg 60\, Sittensen\, 27419\, Deutschland
ATTACH;FMTTYPE=application/pdf:https://www.golfclub-sittensen.de/wp-content/uploads/2022/12/Schnupperkurse-Ausschreibung-Termine-2023_A5-1.pdf
ORGANIZER;CN="Golfclub K%C3%B6nigshof Sittensen e.V.":MAILTO:www.golfclub-sittensen.de
END:VEVENT
BEGIN:VEVENT
DTSTART;VALUE=DATE:20230918
DTEND;VALUE=DATE:20230921
DTSTAMP:20260421T232822
CREATED:20230122T130721Z
LAST-MODIFIED:20230122T130721Z
UID:4262-1694995200-1695254399@www.golfclub-sittensen.de
SUMMARY:Damenreise
DESCRIPTION:Ausfahrt der Damen
URL:https://www.golfclub-sittensen.de/turnier-events/damenreise/
END:VEVENT
BEGIN:VEVENT
DTSTART;TZID=UTC:20230922T163000
DTEND;TZID=UTC:20230922T183000
DTSTAMP:20260421T232822
CREATED:20230217T123500Z
LAST-MODIFIED:20230303T121028Z
UID:4523-1695400200-1695407400@www.golfclub-sittensen.de
SUMMARY:Off. ECCO Day Serie (6)
DESCRIPTION:
URL:https://www.golfclub-sittensen.de/turnier-events/off-ecco-day-serie-6/
LOCATION:Golfclub Königshof Sittensen e.V.\, Alpershausener Weg 60\, Sittensen\, 27419\, Deutschland
CATEGORIES:Wettspielkalender
ORGANIZER;CN="Golfclub K%C3%B6nigshof Sittensen e.V.":MAILTO:www.golfclub-sittensen.de
END:VEVENT
BEGIN:VEVENT
DTSTART;VALUE=DATE:20230923
DTEND;VALUE=DATE:20230924
DTSTAMP:20260421T232822
CREATED:20230122T132029Z
LAST-MODIFIED:20230215T082625Z
UID:4270-1695427200-1695513599@www.golfclub-sittensen.de
SUMMARY:Heimspiel JS AK30I
DESCRIPTION:
URL:https://www.golfclub-sittensen.de/turnier-events/heimspiel-jhs-1/
LOCATION:Golfclub Königshof Sittensen e.V.\, Alpershausener Weg 60\, Sittensen\, 27419\, Deutschland
CATEGORIES:Wettspielkalender
ORGANIZER;CN="Golfclub K%C3%B6nigshof Sittensen e.V.":MAILTO:www.golfclub-sittensen.de
END:VEVENT
BEGIN:VEVENT
DTSTART;TZID=UTC:20230924T103000
DTEND;TZID=UTC:20230924T133000
DTSTAMP:20260421T232822
CREATED:20230217T123635Z
LAST-MODIFIED:20230411T171027Z
UID:4525-1695551400-1695562200@www.golfclub-sittensen.de
SUMMARY:Beginner-Cup
DESCRIPTION:
URL:https://www.golfclub-sittensen.de/turnier-events/beginner-cup-11/
LOCATION:Golfclub Königshof Sittensen e.V.\, Alpershausener Weg 60\, Sittensen\, 27419\, Deutschland
CATEGORIES:Wettspielkalender
ATTACH;FMTTYPE=application/pdf:https://www.golfclub-sittensen.de/wp-content/uploads/2023/02/Kurzausschreibung-Beginner-Cup-2023-1.pdf
ORGANIZER;CN="Golfclub K%C3%B6nigshof Sittensen e.V.":MAILTO:www.golfclub-sittensen.de
END:VEVENT
END:VCALENDAR