BEGIN:VCALENDAR
VERSION:2.0
PRODID:-//Golfclub Sittensen - ECPv6.10.1//NONSGML v1.0//EN
CALSCALE:GREGORIAN
METHOD:PUBLISH
X-ORIGINAL-URL:https://www.golfclub-sittensen.de
X-WR-CALDESC:Veranstaltungen für Golfclub Sittensen
REFRESH-INTERVAL;VALUE=DURATION:PT1H
X-Robots-Tag:noindex
X-PUBLISHED-TTL:PT1H
BEGIN:VTIMEZONE
TZID:UTC
BEGIN:STANDARD
TZOFFSETFROM:+0000
TZOFFSETTO:+0000
TZNAME:UTC
DTSTART:20230101T000000
END:STANDARD
END:VTIMEZONE
BEGIN:VEVENT
DTSTART;TZID=UTC:20230702T103000
DTEND;TZID=UTC:20230702T133000
DTSTAMP:20260422T021607
CREATED:20230215T094734Z
LAST-MODIFIED:20230411T171639Z
UID:4445-1688293800-1688304600@www.golfclub-sittensen.de
SUMMARY:Beginner-Cup
DESCRIPTION:
URL:https://www.golfclub-sittensen.de/turnier-events/beginner-cup-9/
LOCATION:Golfclub Königshof Sittensen e.V.\, Alpershausener Weg 60\, Sittensen\, 27419\, Deutschland
CATEGORIES:Wettspielkalender
ATTACH;FMTTYPE=application/pdf:https://www.golfclub-sittensen.de/wp-content/uploads/2023/02/Kurzausschreibung-Beginner-Cup-2023-4.pdf
ORGANIZER;CN="Golfclub K%C3%B6nigshof Sittensen e.V.":MAILTO:www.golfclub-sittensen.de
END:VEVENT
BEGIN:VEVENT
DTSTART;TZID=UTC:20230705T103000
DTEND;TZID=UTC:20230705T170000
DTSTAMP:20260422T021607
CREATED:20230122T130006Z
LAST-MODIFIED:20230122T130006Z
UID:4251-1688553000-1688576400@www.golfclub-sittensen.de
SUMMARY:Rosen-Cup 2023 (Damen)
DESCRIPTION:Vierer mit Auswahldrive nach Stableford \nNicht HCPI relevant \nHöchstvorgabe 45\, Teamvorgabe 72 \nMaximal 80 Spielerinnen
URL:https://www.golfclub-sittensen.de/turnier-events/rosen-cup-2023-damen/
LOCATION:Golfclub Königshof Sittensen e.V.\, Alpershausener Weg 60\, Sittensen\, 27419\, Deutschland
CATEGORIES:Wettspielkalender
ORGANIZER;CN="Golfclub K%C3%B6nigshof Sittensen e.V.":MAILTO:www.golfclub-sittensen.de
END:VEVENT
BEGIN:VEVENT
DTSTART;TZID=UTC:20230706T100000
DTEND;TZID=UTC:20230706T150000
DTSTAMP:20260422T021607
CREATED:20230215T094841Z
LAST-MODIFIED:20230412T124248Z
UID:4447-1688637600-1688655600@www.golfclub-sittensen.de
SUMMARY:Offenes Senioren - / Seniorinnengolf
DESCRIPTION:
URL:https://www.golfclub-sittensen.de/turnier-events/off-seniorengolf-918-3/
LOCATION:Golfclub Königshof Sittensen e.V.\, Alpershausener Weg 60\, Sittensen\, 27419\, Deutschland
CATEGORIES:Wettspielkalender
ATTACH;FMTTYPE=application/pdf:https://www.golfclub-sittensen.de/wp-content/uploads/2023/02/Turnierausschreibung-Senioren-Seniorinnengolf-2023-2.pdf
ORGANIZER;CN="Golfclub K%C3%B6nigshof Sittensen e.V.":MAILTO:www.golfclub-sittensen.de
END:VEVENT
BEGIN:VEVENT
DTSTART;TZID=UTC:20230707T173000
DTEND;TZID=UTC:20230707T193000
DTSTAMP:20260422T021607
CREATED:20230215T094928Z
LAST-MODIFIED:20230415T103653Z
UID:4449-1688751000-1688758200@www.golfclub-sittensen.de
SUMMARY:Off. Joka After Work (9-Loch)
DESCRIPTION:Aufgrund der Eclectric-Wertung werden über die gesamte Saison die Bahnen 1 – 9 gespielt.
URL:https://www.golfclub-sittensen.de/turnier-events/off-joka-after-work-9-loch-14/
LOCATION:Golfclub Königshof Sittensen e.V.\, Alpershausener Weg 60\, Sittensen\, 27419\, Deutschland
CATEGORIES:Wettspielkalender
ATTACH;FMTTYPE=application/pdf:https://www.golfclub-sittensen.de/wp-content/uploads/2023/02/Turnierausschreibung-Freitags-Joka-After-Work_-2023-12.pdf
ORGANIZER;CN="Golfclub K%C3%B6nigshof Sittensen e.V.":MAILTO:www.golfclub-sittensen.de
END:VEVENT
BEGIN:VEVENT
DTSTART;VALUE=DATE:20230709
DTEND;VALUE=DATE:20230710
DTSTAMP:20260422T021607
CREATED:20230215T095010Z
LAST-MODIFIED:20230215T095010Z
UID:4451-1688860800-1688947199@www.golfclub-sittensen.de
SUMMARY:Generationen-Cup
DESCRIPTION:
URL:https://www.golfclub-sittensen.de/turnier-events/generationen-cup/
LOCATION:Golfclub Königshof Sittensen e.V.\, Alpershausener Weg 60\, Sittensen\, 27419\, Deutschland
CATEGORIES:Wettspielkalender
ORGANIZER;CN="Golfclub K%C3%B6nigshof Sittensen e.V.":MAILTO:www.golfclub-sittensen.de
END:VEVENT
BEGIN:VEVENT
DTSTART;TZID=UTC:20230709T110000
DTEND;TZID=UTC:20230709T130000
DTSTAMP:20260422T021607
CREATED:20221216T115934Z
LAST-MODIFIED:20230122T135700Z
UID:4138-1688900400-1688907600@www.golfclub-sittensen.de
SUMMARY:Schnuppergolf
DESCRIPTION:Kurze Einweisung in Griff\, Stand\, Haltung und Schwungtechnik\nErlernen des „Einlochens“- Putten auf dem Grün\nGolfschläger und Übungsbälle werden leihweise zur Verfügung gestellt\n\nWeitere Informationen sind im Flyer zu finden >> Link Flyer
URL:https://www.golfclub-sittensen.de/turnier-events/schnuppergolf-10/
LOCATION:Golfclub Königshof Sittensen e.V.\, Alpershausener Weg 60\, Sittensen\, 27419\, Deutschland
ATTACH;FMTTYPE=application/pdf:https://www.golfclub-sittensen.de/wp-content/uploads/2022/12/Schnupperkurse-Ausschreibung-Termine-2023_A5-15.pdf
ORGANIZER;CN="Golfclub K%C3%B6nigshof Sittensen e.V.":MAILTO:www.golfclub-sittensen.de
END:VEVENT
BEGIN:VEVENT
DTSTART;TZID=UTC:20230712T180000
DTEND;TZID=UTC:20230712T200000
DTSTAMP:20260422T021607
CREATED:20230215T095225Z
LAST-MODIFIED:20230412T120811Z
UID:4453-1689184800-1689192000@www.golfclub-sittensen.de
SUMMARY:Off. MBAWGC Serie (8) - Bahnen 10 - 18
DESCRIPTION:Die Anmeldung für die Mercedes-Benz AWGC 2023 Serie erfolgt ausschließlich über awgc.de!
URL:https://www.golfclub-sittensen.de/turnier-events/off-mbawgc-serie-8/
LOCATION:Golfclub Königshof Sittensen e.V.\, Alpershausener Weg 60\, Sittensen\, 27419\, Deutschland
CATEGORIES:Wettspielkalender
ATTACH;FMTTYPE=application/pdf:https://www.golfclub-sittensen.de/wp-content/uploads/2023/02/Kurzausschreibung-Mercedes-Benz-AWGC-2023_mit-Logo-Tesmer-7.pdf
ORGANIZER;CN="Golfclub K%C3%B6nigshof Sittensen e.V.":MAILTO:www.golfclub-sittensen.de
END:VEVENT
BEGIN:VEVENT
DTSTART;TZID=UTC:20230714T173000
DTEND;TZID=UTC:20230714T193000
DTSTAMP:20260422T021607
CREATED:20230215T095618Z
LAST-MODIFIED:20230415T103428Z
UID:4455-1689355800-1689363000@www.golfclub-sittensen.de
SUMMARY:Off. Joka After Work (9-Loch)
DESCRIPTION:Aufgrund der Eclectric-Wertung werden über die gesamte Saison die Bahnen 1 – 9 gespielt.
URL:https://www.golfclub-sittensen.de/turnier-events/off-joka-after-work-9-loch-15/
LOCATION:Golfclub Königshof Sittensen e.V.\, Alpershausener Weg 60\, Sittensen\, 27419\, Deutschland
CATEGORIES:Wettspielkalender
ATTACH;FMTTYPE=application/pdf:https://www.golfclub-sittensen.de/wp-content/uploads/2023/02/Turnierausschreibung-Freitags-Joka-After-Work_-2023-11.pdf
ORGANIZER;CN="Golfclub K%C3%B6nigshof Sittensen e.V.":MAILTO:www.golfclub-sittensen.de
END:VEVENT
BEGIN:VEVENT
DTSTART;TZID=UTC:20230715T110000
DTEND;TZID=UTC:20230715T130000
DTSTAMP:20260422T021607
CREATED:20221216T121341Z
LAST-MODIFIED:20230122T134942Z
UID:4163-1689418800-1689426000@www.golfclub-sittensen.de
SUMMARY:Wochenend-Schnuppergolf
DESCRIPTION:Leih-Golfschläger & unbegrenzte Anzahl an Übungsbällen\nKurze Einweisung in Griff\, Stand\, Haltung und Schwungtechnik\nErlernen des „Einlochens“- Putten auf dem Grün\nfreie Nutzung sämtlicher Übungsanlagen des Golfplatzes an beiden Kurstagen\, auch nach dem Training!\n\nWeitere Informationen sind im Flyer zu finden >> Link Flyer
URL:https://www.golfclub-sittensen.de/turnier-events/wochenend-schnuppergolf-19/
LOCATION:Golfclub Königshof Sittensen e.V.\, Alpershausener Weg 60\, Sittensen\, 27419\, Deutschland
ATTACH;FMTTYPE=application/pdf:https://www.golfclub-sittensen.de/wp-content/uploads/2022/12/Schnupperkurse-Ausschreibung-Termine-2023_A5-6.pdf
ORGANIZER;CN="Golfclub K%C3%B6nigshof Sittensen e.V.":MAILTO:www.golfclub-sittensen.de
END:VEVENT
BEGIN:VEVENT
DTSTART;TZID=UTC:20230715T110000
DTEND;TZID=UTC:20230715T160000
DTSTAMP:20260422T021607
CREATED:20230122T133046Z
LAST-MODIFIED:20230602T121226Z
UID:4286-1689418800-1689436800@www.golfclub-sittensen.de
SUMMARY:Königshof-Pokal
DESCRIPTION:Sicher dir noch heute dein VIP-Ticket für den Königshofpokal 2023. \nWeitere Informationen…
URL:https://www.golfclub-sittensen.de/turnier-events/koenigshof-pokal-2/
LOCATION:Golfclub Königshof Sittensen e.V.\, Alpershausener Weg 60\, Sittensen\, 27419\, Deutschland
CATEGORIES:Wettspielkalender
ATTACH;FMTTYPE=application/pdf:https://www.golfclub-sittensen.de/wp-content/uploads/2023/01/Ticket-komplett.pdf
ORGANIZER;CN="Golfclub K%C3%B6nigshof Sittensen e.V.":MAILTO:www.golfclub-sittensen.de
END:VEVENT
BEGIN:VEVENT
DTSTART;TZID=UTC:20230716T110000
DTEND;TZID=UTC:20230716T130000
DTSTAMP:20260422T021607
CREATED:20221216T121420Z
LAST-MODIFIED:20230122T134901Z
UID:4165-1689505200-1689512400@www.golfclub-sittensen.de
SUMMARY:Wochenend-Schnuppergolf
DESCRIPTION:Leih-Golfschläger & unbegrenzte Anzahl an Übungsbällen\nKurze Einweisung in Griff\, Stand\, Haltung und Schwungtechnik\nErlernen des „Einlochens“- Putten auf dem Grün\nfreie Nutzung sämtlicher Übungsanlagen des Golfplatzes an beiden Kurstagen\, auch nach dem Training!\n\nWeitere Informationen sind im Flyer zu finden >> Link Flyer
URL:https://www.golfclub-sittensen.de/turnier-events/wochenend-schnuppergolf-20/
LOCATION:Golfclub Königshof Sittensen e.V.\, Alpershausener Weg 60\, Sittensen\, 27419\, Deutschland
ATTACH;FMTTYPE=application/pdf:https://www.golfclub-sittensen.de/wp-content/uploads/2022/12/Schnupperkurse-Ausschreibung-Termine-2023_A5-5.pdf
ORGANIZER;CN="Golfclub K%C3%B6nigshof Sittensen e.V.":MAILTO:www.golfclub-sittensen.de
END:VEVENT
BEGIN:VEVENT
DTSTART;TZID=UTC:20230719T100000
DTEND;TZID=UTC:20230719T150000
DTSTAMP:20260422T021607
CREATED:20230122T130244Z
LAST-MODIFIED:20230122T130244Z
UID:4253-1689760800-1689778800@www.golfclub-sittensen.de
SUMMARY:Ladies Day (18-Loch)
DESCRIPTION:Stableford HCPI relevant
URL:https://www.golfclub-sittensen.de/turnier-events/ladies-day-18-loch/
LOCATION:Golfclub Königshof Sittensen e.V.\, Alpershausener Weg 60\, Sittensen\, 27419\, Deutschland
CATEGORIES:Wettspielkalender
ORGANIZER;CN="Golfclub K%C3%B6nigshof Sittensen e.V.":MAILTO:www.golfclub-sittensen.de
END:VEVENT
BEGIN:VEVENT
DTSTART;TZID=UTC:20230721T173000
DTEND;TZID=UTC:20230721T193000
DTSTAMP:20260422T021607
CREATED:20230215T095713Z
LAST-MODIFIED:20230415T103307Z
UID:4457-1689960600-1689967800@www.golfclub-sittensen.de
SUMMARY:Off. Joka After Work (9-Loch)
DESCRIPTION:Aufgrund der Eclectric-Wertung werden über die gesamte Saison die Bahnen 1 – 9 gespielt.
URL:https://www.golfclub-sittensen.de/turnier-events/off-joka-after-work-9-loch-16/
LOCATION:Golfclub Königshof Sittensen e.V.\, Alpershausener Weg 60\, Sittensen\, 27419\, Deutschland
CATEGORIES:Wettspielkalender
ATTACH;FMTTYPE=application/pdf:https://www.golfclub-sittensen.de/wp-content/uploads/2023/02/Turnierausschreibung-Freitags-Joka-After-Work_-2023-10.pdf
ORGANIZER;CN="Golfclub K%C3%B6nigshof Sittensen e.V.":MAILTO:www.golfclub-sittensen.de
END:VEVENT
BEGIN:VEVENT
DTSTART;TZID=UTC:20230723T100000
DTEND;TZID=UTC:20230723T170000
DTSTAMP:20260422T021607
CREATED:20230215T095753Z
LAST-MODIFIED:20230503T102311Z
UID:4459-1690106400-1690131600@www.golfclub-sittensen.de
SUMMARY:Copa del Oste
DESCRIPTION:
URL:https://www.golfclub-sittensen.de/turnier-events/copa-del-oste-2/
LOCATION:Golfclub Königshof Sittensen e.V.\, Alpershausener Weg 60\, Sittensen\, 27419\, Deutschland
CATEGORIES:Wettspielkalender
ATTACH;FMTTYPE=application/pdf:https://www.golfclub-sittensen.de/wp-content/uploads/2023/02/Kurzausschreibung_Copa-del-Oste_2023.pdf
ORGANIZER;CN="Golfclub K%C3%B6nigshof Sittensen e.V.":MAILTO:www.golfclub-sittensen.de
END:VEVENT
BEGIN:VEVENT
DTSTART;TZID=UTC:20230726T180000
DTEND;TZID=UTC:20230726T203000
DTSTAMP:20260422T021607
CREATED:20230215T100008Z
LAST-MODIFIED:20230412T121003Z
UID:4462-1690394400-1690403400@www.golfclub-sittensen.de
SUMMARY:Off. MBAWGC Serie (9) - Bahnen 1 - 9
DESCRIPTION:Die Anmeldung für die Mercedes-Benz AWGC 2023 Serie erfolgt ausschließlich über awgc.de!
URL:https://www.golfclub-sittensen.de/turnier-events/off-mbawgc-serie-9/
LOCATION:Golfclub Königshof Sittensen e.V.\, Alpershausener Weg 60\, Sittensen\, 27419\, Deutschland
CATEGORIES:Wettspielkalender
ATTACH;FMTTYPE=application/pdf:https://www.golfclub-sittensen.de/wp-content/uploads/2023/02/Kurzausschreibung-Mercedes-Benz-AWGC-2023_mit-Logo-Tesmer-8.pdf
ORGANIZER;CN="Golfclub K%C3%B6nigshof Sittensen e.V.":MAILTO:www.golfclub-sittensen.de
END:VEVENT
BEGIN:VEVENT
DTSTART;VALUE=DATE:20230727
DTEND;VALUE=DATE:20230728
DTSTAMP:20260422T021607
CREATED:20221217T101956Z
LAST-MODIFIED:20221217T102208Z
UID:4192-1690416000-1690502399@www.golfclub-sittensen.de
SUMMARY:Freundschaftsspiel Sittensen / Wümme (Senioren)
DESCRIPTION:In Sittensen
URL:https://www.golfclub-sittensen.de/turnier-events/freundschaftsspiel-sittensen-wuemme-senioren/
END:VEVENT
BEGIN:VEVENT
DTSTART;TZID=UTC:20230728T173000
DTEND;TZID=UTC:20230728T193000
DTSTAMP:20260422T021607
CREATED:20230215T100129Z
LAST-MODIFIED:20230415T103136Z
UID:4464-1690565400-1690572600@www.golfclub-sittensen.de
SUMMARY:Off. Joka After Work (9-Loch)
DESCRIPTION:Aufgrund der Eclectric-Wertung werden über die gesamte Saison die Bahnen 1 – 9 gespielt.
URL:https://www.golfclub-sittensen.de/turnier-events/off-joka-after-work-9-loch-17/
LOCATION:Golfclub Königshof Sittensen e.V.\, Alpershausener Weg 60\, Sittensen\, 27419\, Deutschland
CATEGORIES:Wettspielkalender
ATTACH;FMTTYPE=application/pdf:https://www.golfclub-sittensen.de/wp-content/uploads/2023/02/Turnierausschreibung-Freitags-Joka-After-Work_-2023-9.pdf
ORGANIZER;CN="Golfclub K%C3%B6nigshof Sittensen e.V.":MAILTO:www.golfclub-sittensen.de
END:VEVENT
BEGIN:VEVENT
DTSTART;VALUE=DATE:20230729
DTEND;VALUE=DATE:20230731
DTSTAMP:20260422T021607
CREATED:20230215T100234Z
LAST-MODIFIED:20230215T100234Z
UID:4466-1690588800-1690761599@www.golfclub-sittensen.de
SUMMARY:Vierer-Clubmeisterschaft
DESCRIPTION:
URL:https://www.golfclub-sittensen.de/turnier-events/vierer-clubmeisterschaft/
LOCATION:Golfclub Königshof Sittensen e.V.\, Alpershausener Weg 60\, Sittensen\, 27419\, Deutschland
CATEGORIES:Wettspielkalender
ORGANIZER;CN="Golfclub K%C3%B6nigshof Sittensen e.V.":MAILTO:www.golfclub-sittensen.de
END:VEVENT
END:VCALENDAR