BEGIN:VCALENDAR
VERSION:2.0
PRODID:-//Golfclub Sittensen - ECPv6.10.1//NONSGML v1.0//EN
CALSCALE:GREGORIAN
METHOD:PUBLISH
X-ORIGINAL-URL:https://www.golfclub-sittensen.de
X-WR-CALDESC:Veranstaltungen für Golfclub Sittensen
REFRESH-INTERVAL;VALUE=DURATION:PT1H
X-Robots-Tag:noindex
X-PUBLISHED-TTL:PT1H
BEGIN:VTIMEZONE
TZID:UTC
BEGIN:STANDARD
TZOFFSETFROM:+0000
TZOFFSETTO:+0000
TZNAME:UTC
DTSTART:20260101T000000
END:STANDARD
END:VTIMEZONE
BEGIN:VEVENT
DTSTART;TZID=UTC:20261014T103000
DTEND;TZID=UTC:20261014T150000
DTSTAMP:20260422T085112
CREATED:20260224T155445Z
LAST-MODIFIED:20260224T155512Z
UID:10157-1791973800-1791990000@www.golfclub-sittensen.de
SUMMARY:Damen-Abschlusswettspiel 10.30 Uhr
DESCRIPTION:
URL:https://www.golfclub-sittensen.de/turnier-events/damen-abschlisswettspiel-10-30-uhr/
END:VEVENT
END:VCALENDAR