BEGIN:VCALENDAR
VERSION:2.0
PRODID:-//Golfclub Sittensen - ECPv6.10.1//NONSGML v1.0//EN
CALSCALE:GREGORIAN
METHOD:PUBLISH
X-WR-CALNAME:Golfclub Sittensen
X-ORIGINAL-URL:https://www.golfclub-sittensen.de
X-WR-CALDESC:Veranstaltungen für Golfclub Sittensen
REFRESH-INTERVAL;VALUE=DURATION:PT1H
X-Robots-Tag:noindex
X-PUBLISHED-TTL:PT1H
BEGIN:VTIMEZONE
TZID:UTC
BEGIN:STANDARD
TZOFFSETFROM:+0000
TZOFFSETTO:+0000
TZNAME:UTC
DTSTART:20260101T000000
END:STANDARD
END:VTIMEZONE
BEGIN:VEVENT
DTSTART;TZID=UTC:20260913T100000
DTEND;TZID=UTC:20260913T150000
DTSTAMP:20260422T072343
CREATED:20260224T154534Z
LAST-MODIFIED:20260224T154534Z
UID:10142-1789293600-1789311600@www.golfclub-sittensen.de
SUMMARY:HTB-Abschlussturnier 2026 – Spaßturnier über 18 Loch
DESCRIPTION:
URL:https://www.golfclub-sittensen.de/turnier-events/htb-abschlussturnier-2026-spassturnier-ueber-18-loch/
END:VEVENT
END:VCALENDAR