BEGIN:VCALENDAR
VERSION:2.0
PRODID:-//Golfclub Sittensen - ECPv6.10.1//NONSGML v1.0//EN
CALSCALE:GREGORIAN
METHOD:PUBLISH
X-ORIGINAL-URL:https://www.golfclub-sittensen.de
X-WR-CALDESC:Veranstaltungen für Golfclub Sittensen
REFRESH-INTERVAL;VALUE=DURATION:PT1H
X-Robots-Tag:noindex
X-PUBLISHED-TTL:PT1H
BEGIN:VTIMEZONE
TZID:UTC
BEGIN:STANDARD
TZOFFSETFROM:+0000
TZOFFSETTO:+0000
TZNAME:UTC
DTSTART:20260101T000000
END:STANDARD
END:VTIMEZONE
BEGIN:VEVENT
DTSTART;VALUE=DATE:20260815
DTEND;VALUE=DATE:20260816
DTSTAMP:20260422T055029
CREATED:20260224T152932Z
LAST-MODIFIED:20260224T152932Z
UID:10119-1786752000-1786838399@www.golfclub-sittensen.de
SUMMARY:Clubmeisterschaften AK 50\, AK 65\, Beginner
DESCRIPTION:
URL:https://www.golfclub-sittensen.de/turnier-events/clubmeisterschaften-ak-50-ak-65-beginner/
END:VEVENT
END:VCALENDAR