BEGIN:VCALENDAR
VERSION:2.0
PRODID:-//Golfclub Sittensen - ECPv6.10.1//NONSGML v1.0//EN
CALSCALE:GREGORIAN
METHOD:PUBLISH
X-ORIGINAL-URL:https://www.golfclub-sittensen.de
X-WR-CALDESC:Veranstaltungen für Golfclub Sittensen
REFRESH-INTERVAL;VALUE=DURATION:PT1H
X-Robots-Tag:noindex
X-PUBLISHED-TTL:PT1H
BEGIN:VTIMEZONE
TZID:UTC
BEGIN:STANDARD
TZOFFSETFROM:+0000
TZOFFSETTO:+0000
TZNAME:UTC
DTSTART:20260101T000000
END:STANDARD
END:VTIMEZONE
BEGIN:VEVENT
DTSTART;TZID=UTC:20260715T103000
DTEND;TZID=UTC:20260715T140000
DTSTAMP:20260422T042234
CREATED:20260107T161101Z
LAST-MODIFIED:20260107T161101Z
UID:9913-1784111400-1784124000@www.golfclub-sittensen.de
SUMMARY:Ladies Day
DESCRIPTION:
URL:https://www.golfclub-sittensen.de/turnier-events/ladies-day-10/
LOCATION:Golfclub Königshof Sittensen e.V.\, Alpershausener Weg 60\, Sittensen\, 27419\, Deutschland
ORGANIZER;CN="Golfclub K%C3%B6nigshof Sittensen e.V.":MAILTO:www.golfclub-sittensen.de
END:VEVENT
BEGIN:VEVENT
DTSTART;TZID=UTC:20260715T180000
DTEND;TZID=UTC:20260715T200000
DTSTAMP:20260422T042234
CREATED:20260107T161006Z
LAST-MODIFIED:20260114T105717Z
UID:9911-1784138400-1784145600@www.golfclub-sittensen.de
SUMMARY:Off. Mercedes Benz AWGC (6)
DESCRIPTION:HCPI-relevant\, 9 Loch\, Kanonenstart
URL:https://www.golfclub-sittensen.de/turnier-events/off-mercedes-benz-awgc-6-3/
LOCATION:Golfclub Königshof Sittensen e.V.\, Alpershausener Weg 60\, Sittensen\, 27419\, Deutschland
CATEGORIES:Wettspielkalender
ORGANIZER;CN="Golfclub K%C3%B6nigshof Sittensen e.V.":MAILTO:www.golfclub-sittensen.de
END:VEVENT
END:VCALENDAR