BEGIN:VCALENDAR
VERSION:2.0
PRODID:-//Golfclub Sittensen - ECPv6.10.1//NONSGML v1.0//EN
CALSCALE:GREGORIAN
METHOD:PUBLISH
X-ORIGINAL-URL:https://www.golfclub-sittensen.de
X-WR-CALDESC:Veranstaltungen für Golfclub Sittensen
REFRESH-INTERVAL;VALUE=DURATION:PT1H
X-Robots-Tag:noindex
X-PUBLISHED-TTL:PT1H
BEGIN:VTIMEZONE
TZID:UTC
BEGIN:STANDARD
TZOFFSETFROM:+0000
TZOFFSETTO:+0000
TZNAME:UTC
DTSTART:20260101T000000
END:STANDARD
END:VTIMEZONE
BEGIN:VEVENT
DTSTART;TZID=UTC:20260527T103000
DTEND;TZID=UTC:20260527T150000
DTSTAMP:20260422T012204
CREATED:20260107T154429Z
LAST-MODIFIED:20260312T084033Z
UID:9878-1779877800-1779894000@www.golfclub-sittensen.de
SUMMARY:Ladies Day
DESCRIPTION:HCPI – relevant\, 9 / 18 Loch
URL:https://www.golfclub-sittensen.de/turnier-events/ladies-day-8/
LOCATION:Golfclub Königshof Sittensen e.V.\, Alpershausener Weg 60\, Sittensen\, 27419\, Deutschland
CATEGORIES:Wettspielkalender
ORGANIZER;CN="Golfclub K%C3%B6nigshof Sittensen e.V.":MAILTO:www.golfclub-sittensen.de
END:VEVENT
BEGIN:VEVENT
DTSTART;TZID=UTC:20260527T180000
DTEND;TZID=UTC:20260527T200000
DTSTAMP:20260422T012204
CREATED:20260224T145227Z
LAST-MODIFIED:20260312T084128Z
UID:10096-1779904800-1779912000@www.golfclub-sittensen.de
SUMMARY:Off. MBAWGC (2) 18.00 Uhr
DESCRIPTION:
URL:https://www.golfclub-sittensen.de/turnier-events/sommer-eclectic-10-30-uhr-off-mbawgc-2-18-00-uhr/
END:VEVENT
END:VCALENDAR