BEGIN:VCALENDAR
VERSION:2.0
PRODID:-//Golfclub Sittensen - ECPv6.10.1//NONSGML v1.0//EN
CALSCALE:GREGORIAN
METHOD:PUBLISH
X-ORIGINAL-URL:https://www.golfclub-sittensen.de
X-WR-CALDESC:Veranstaltungen für Golfclub Sittensen
REFRESH-INTERVAL;VALUE=DURATION:PT1H
X-Robots-Tag:noindex
X-PUBLISHED-TTL:PT1H
BEGIN:VTIMEZONE
TZID:UTC
BEGIN:STANDARD
TZOFFSETFROM:+0000
TZOFFSETTO:+0000
TZNAME:UTC
DTSTART:20260101T000000
END:STANDARD
END:VTIMEZONE
BEGIN:VEVENT
DTSTART;TZID=UTC:20260521T100000
DTEND;TZID=UTC:20260521T170000
DTSTAMP:20260422T012911
CREATED:20260224T144936Z
LAST-MODIFIED:20260224T144936Z
UID:10092-1779357600-1779382800@www.golfclub-sittensen.de
SUMMARY:AK 65 Heimspiel Damen
DESCRIPTION:
URL:https://www.golfclub-sittensen.de/turnier-events/ak-65-heimspiel-damen/
END:VEVENT
END:VCALENDAR