BEGIN:VCALENDAR
VERSION:2.0
PRODID:-//Golfclub Sittensen - ECPv6.10.1//NONSGML v1.0//EN
CALSCALE:GREGORIAN
METHOD:PUBLISH
X-ORIGINAL-URL:https://www.golfclub-sittensen.de
X-WR-CALDESC:Veranstaltungen für Golfclub Sittensen
REFRESH-INTERVAL;VALUE=DURATION:PT1H
X-Robots-Tag:noindex
X-PUBLISHED-TTL:PT1H
BEGIN:VTIMEZONE
TZID:UTC
BEGIN:STANDARD
TZOFFSETFROM:+0000
TZOFFSETTO:+0000
TZNAME:UTC
DTSTART:20260101T000000
END:STANDARD
END:VTIMEZONE
BEGIN:VEVENT
DTSTART;TZID=UTC:20260506T180000
DTEND;TZID=UTC:20260506T200000
DTSTAMP:20260422T012021
CREATED:20260106T161309Z
LAST-MODIFIED:20260106T161309Z
UID:9852-1778090400-1778097600@www.golfclub-sittensen.de
SUMMARY:Off. Mercedes Benz AWGC (1)
DESCRIPTION:Spielart: Stabelford\, Kanonenstart\, es werden abwechselnd die Bahnen 1 – 9 und 10 – 18 gespielt.
URL:https://www.golfclub-sittensen.de/turnier-events/off-mercedes-benz-awgc-1-2/
LOCATION:Golfclub Königshof Sittensen e.V.\, Alpershausener Weg 60\, Sittensen\, 27419\, Deutschland
CATEGORIES:Wettspielkalender
ORGANIZER;CN="Golfclub K%C3%B6nigshof Sittensen e.V.":MAILTO:www.golfclub-sittensen.de
END:VEVENT
END:VCALENDAR