BEGIN:VCALENDAR
VERSION:2.0
PRODID:-//Golfclub Sittensen - ECPv6.10.1//NONSGML v1.0//EN
CALSCALE:GREGORIAN
METHOD:PUBLISH
X-WR-CALNAME:Golfclub Sittensen
X-ORIGINAL-URL:https://www.golfclub-sittensen.de
X-WR-CALDESC:Veranstaltungen für Golfclub Sittensen
REFRESH-INTERVAL;VALUE=DURATION:PT1H
X-Robots-Tag:noindex
X-PUBLISHED-TTL:PT1H
BEGIN:VTIMEZONE
TZID:UTC
BEGIN:STANDARD
TZOFFSETFROM:+0000
TZOFFSETTO:+0000
TZNAME:UTC
DTSTART:20250101T000000
END:STANDARD
END:VTIMEZONE
BEGIN:VEVENT
DTSTART;TZID=UTC:20250806T110000
DTEND;TZID=UTC:20250806T140000
DTSTAMP:20260422T113724
CREATED:20241105T085001Z
LAST-MODIFIED:20241227T121857Z
UID:7958-1754478000-1754488800@www.golfclub-sittensen.de
SUMMARY:MiDaGolferinnen
DESCRIPTION:
URL:https://www.golfclub-sittensen.de/turnier-events/midagolferinnen-golfspass/
LOCATION:Golfclub Königshof Sittensen e.V.\, Alpershausener Weg 60\, Sittensen\, 27419\, Deutschland
END:VEVENT
BEGIN:VEVENT
DTSTART;TZID=UTC:20250806T180000
DTEND;TZID=UTC:20250806T200000
DTSTAMP:20260422T113724
CREATED:20241227T120650Z
LAST-MODIFIED:20250304T110105Z
UID:8465-1754503200-1754510400@www.golfclub-sittensen.de
SUMMARY:Off. Mercedes Benz AWGC (9)
DESCRIPTION:9-Loch\, HCPI-relevant\, Kanonenstart \nHier geht es zur Ausschreibung…
URL:https://www.golfclub-sittensen.de/turnier-events/off-mbawgc-9/
LOCATION:Golfclub Königshof Sittensen e.V.\, Alpershausener Weg 60\, Sittensen\, 27419\, Deutschland
ORGANIZER;CN="Golfclub K%C3%B6nigshof Sittensen e.V.":MAILTO:www.golfclub-sittensen.de
END:VEVENT
END:VCALENDAR