BEGIN:VCALENDAR
VERSION:2.0
PRODID:-//Golfclub Sittensen - ECPv6.10.1//NONSGML v1.0//EN
CALSCALE:GREGORIAN
METHOD:PUBLISH
X-WR-CALNAME:Golfclub Sittensen
X-ORIGINAL-URL:https://www.golfclub-sittensen.de
X-WR-CALDESC:Veranstaltungen für Golfclub Sittensen
REFRESH-INTERVAL;VALUE=DURATION:PT1H
X-Robots-Tag:noindex
X-PUBLISHED-TTL:PT1H
BEGIN:VTIMEZONE
TZID:UTC
BEGIN:STANDARD
TZOFFSETFROM:+0000
TZOFFSETTO:+0000
TZNAME:UTC
DTSTART:20250101T000000
END:STANDARD
END:VTIMEZONE
BEGIN:VEVENT
DTSTART;VALUE=DATE:20250719
DTEND;VALUE=DATE:20250720
DTSTAMP:20260422T130133
CREATED:20241113T140352Z
LAST-MODIFIED:20250604T084915Z
UID:8269-1752883200-1752969599@www.golfclub-sittensen.de
SUMMARY:Off. Königshofpokal 2025
DESCRIPTION:Das Traditionsturnier im Golfclub Königshof Sittensen. Was erwartet Euch: \n\nTee Präsent\nBegrüßungssnack vom Coffee Mobil\nRundenversorgung\nHochwertige Preise\nHole in One an der Bahn 11 – E-Trolley von KIFFE\nEssen aus dem Restaurant Königs\nund vieles mehr……\n\nNEU: Wir spielen über 18 Loch\, HCPI-relevant\, nach Stableford. \nHier geht es zur Ausschreibung….
URL:https://www.golfclub-sittensen.de/turnier-events/off-koenigshofpokal/
LOCATION:Golfclub Königshof Sittensen e.V.\, Alpershausener Weg 60\, Sittensen\, 27419\, Deutschland
END:VEVENT
END:VCALENDAR