BEGIN:VCALENDAR
VERSION:2.0
PRODID:-//Golfclub Sittensen - ECPv6.10.1//NONSGML v1.0//EN
CALSCALE:GREGORIAN
METHOD:PUBLISH
X-ORIGINAL-URL:https://www.golfclub-sittensen.de
X-WR-CALDESC:Veranstaltungen für Golfclub Sittensen
REFRESH-INTERVAL;VALUE=DURATION:PT1H
X-Robots-Tag:noindex
X-PUBLISHED-TTL:PT1H
BEGIN:VTIMEZONE
TZID:UTC
BEGIN:STANDARD
TZOFFSETFROM:+0000
TZOFFSETTO:+0000
TZNAME:UTC
DTSTART:20250101T000000
END:STANDARD
END:VTIMEZONE
BEGIN:VEVENT
DTSTART;TZID=UTC:20250716T110000
DTEND;TZID=UTC:20250716T143000
DTSTAMP:20260422T130359
CREATED:20241105T084859Z
LAST-MODIFIED:20241105T084859Z
UID:7956-1752663600-1752676200@www.golfclub-sittensen.de
SUMMARY:Ladies Day
DESCRIPTION:HCPI-relevant\, Stableford\, 9 / 18 Loch
URL:https://www.golfclub-sittensen.de/turnier-events/ladies-day-6/
LOCATION:Golfclub Königshof Sittensen e.V.\, Alpershausener Weg 60\, Sittensen\, 27419\, Deutschland
END:VEVENT
BEGIN:VEVENT
DTSTART;TZID=UTC:20250716T180000
DTEND;TZID=UTC:20250716T200000
DTSTAMP:20260422T130359
CREATED:20241113T140930Z
LAST-MODIFIED:20250304T105601Z
UID:8278-1752688800-1752696000@www.golfclub-sittensen.de
SUMMARY:Off. Mercedes Benz AWGC (6)
DESCRIPTION:HCPI-relevant\, 9 Loch\, Kanonenstart \nHier geht es zur Ausschreibung…
URL:https://www.golfclub-sittensen.de/turnier-events/off-mercedes-benz-awgc-6-2/
LOCATION:Golfclub Königshof Sittensen e.V.\, Alpershausener Weg 60\, Sittensen\, 27419\, Deutschland
END:VEVENT
END:VCALENDAR