BEGIN:VCALENDAR
VERSION:2.0
PRODID:-//Golfclub Sittensen - ECPv6.10.1//NONSGML v1.0//EN
CALSCALE:GREGORIAN
METHOD:PUBLISH
X-ORIGINAL-URL:https://www.golfclub-sittensen.de
X-WR-CALDESC:Veranstaltungen für Golfclub Sittensen
REFRESH-INTERVAL;VALUE=DURATION:PT1H
X-Robots-Tag:noindex
X-PUBLISHED-TTL:PT1H
BEGIN:VTIMEZONE
TZID:UTC
BEGIN:STANDARD
TZOFFSETFROM:+0000
TZOFFSETTO:+0000
TZNAME:UTC
DTSTART:20250101T000000
END:STANDARD
END:VTIMEZONE
BEGIN:VEVENT
DTSTART;TZID=UTC:20250709T110000
DTEND;TZID=UTC:20250709T150000
DTSTAMP:20260422T130516
CREATED:20241105T095112Z
LAST-MODIFIED:20241105T095112Z
UID:7989-1752058800-1752073200@www.golfclub-sittensen.de
SUMMARY:MiDaGolferinnen
DESCRIPTION:
URL:https://www.golfclub-sittensen.de/turnier-events/midagolferinnen-27/
LOCATION:Golfclub Königshof Sittensen e.V.\, Alpershausener Weg 60\, Sittensen\, 27419\, Deutschland
END:VEVENT
BEGIN:VEVENT
DTSTART;TZID=UTC:20250709T180000
DTEND;TZID=UTC:20250709T200000
DTSTAMP:20260422T130516
CREATED:20241113T140603Z
LAST-MODIFIED:20250304T105452Z
UID:8272-1752084000-1752091200@www.golfclub-sittensen.de
SUMMARY:Off. Mercedes Benz AWGC (5)
DESCRIPTION:HCPI-relevant\, 9 Loch\, Kanonenstart \nHier geht es zur Ausschreibung…
URL:https://www.golfclub-sittensen.de/turnier-events/off-mercedes-benz-awgc-5-2/
LOCATION:Golfclub Königshof Sittensen e.V.\, Alpershausener Weg 60\, Sittensen\, 27419\, Deutschland
END:VEVENT
END:VCALENDAR