BEGIN:VCALENDAR
VERSION:2.0
PRODID:-//Golfclub Sittensen - ECPv6.10.1//NONSGML v1.0//EN
CALSCALE:GREGORIAN
METHOD:PUBLISH
X-ORIGINAL-URL:https://www.golfclub-sittensen.de
X-WR-CALDESC:Veranstaltungen für Golfclub Sittensen
REFRESH-INTERVAL;VALUE=DURATION:PT1H
X-Robots-Tag:noindex
X-PUBLISHED-TTL:PT1H
BEGIN:VTIMEZONE
TZID:UTC
BEGIN:STANDARD
TZOFFSETFROM:+0000
TZOFFSETTO:+0000
TZNAME:UTC
DTSTART:20250101T000000
END:STANDARD
END:VTIMEZONE
BEGIN:VEVENT
DTSTART;TZID=UTC:20250507T110000
DTEND;TZID=UTC:20250507T150000
DTSTAMP:20260422T154133
CREATED:20241105T084118Z
LAST-MODIFIED:20241105T084118Z
UID:7944-1746615600-1746630000@www.golfclub-sittensen.de
SUMMARY:MiDaGolferinnen - Ladies Day
DESCRIPTION:HCPI-relevant\, 9 / 18 Loch
URL:https://www.golfclub-sittensen.de/turnier-events/midagolferinnen-ladies-day/
LOCATION:Golfclub Königshof Sittensen e.V.\, Alpershausener Weg 60\, Sittensen\, 27419\, Deutschland
END:VEVENT
BEGIN:VEVENT
DTSTART;TZID=UTC:20250507T173000
DTEND;TZID=UTC:20250507T193000
DTSTAMP:20260422T154133
CREATED:20241112T101748Z
LAST-MODIFIED:20250304T101153Z
UID:8234-1746639000-1746646200@www.golfclub-sittensen.de
SUMMARY:Off. Mercedes Benz AWGC (1)
DESCRIPTION:Spielart: Stabelford\, Kanonenstart\, es werden abwechselnd die Bahnen 1 – 9 und 10 – 18 gespielt. \nHier geht es zur Ausschreibung…
URL:https://www.golfclub-sittensen.de/turnier-events/off-mercedes-benz-awgc-1/
LOCATION:Golfclub Königshof Sittensen e.V.\, Alpershausener Weg 60\, Sittensen\, 27419\, Deutschland
END:VEVENT
END:VCALENDAR