BEGIN:VCALENDAR
VERSION:2.0
PRODID:-//Golfclub Sittensen - ECPv6.10.1//NONSGML v1.0//EN
CALSCALE:GREGORIAN
METHOD:PUBLISH
X-ORIGINAL-URL:https://www.golfclub-sittensen.de
X-WR-CALDESC:Veranstaltungen für Golfclub Sittensen
REFRESH-INTERVAL;VALUE=DURATION:PT1H
X-Robots-Tag:noindex
X-PUBLISHED-TTL:PT1H
BEGIN:VTIMEZONE
TZID:UTC
BEGIN:STANDARD
TZOFFSETFROM:+0000
TZOFFSETTO:+0000
TZNAME:UTC
DTSTART:20240101T000000
END:STANDARD
END:VTIMEZONE
BEGIN:VEVENT
DTSTART;TZID=UTC:20240728T110000
DTEND;TZID=UTC:20240728T153000
DTSTAMP:20260421T080355
CREATED:20231229T165119Z
LAST-MODIFIED:20250604T184421Z
UID:6109-1722164400-1722180600@www.golfclub-sittensen.de
SUMMARY:Benefix-Turnier\, zugunsten der Deutschen Krebshilfe
DESCRIPTION:18 Loch\, HCPI-relevant\, Kanonenstart. \nHier geht es zur Ausschreibung… \nSonderauswertung\, gesponsert vom Golfclub St. Pauli: \nWER HAT DEN KÜRZESTEN 2024? oder ganz old school NEAREST TO THE PIN! \nPar 3 Sonderauswertung getrennt für Damen und Herren. Und das Beste: am 31. August 2024 gibt es eine finale Gesamtwertung. Die Beste der „Gesamtwertung Damen“ und der Beste der „Gesamtwertung Herren“ gewinnen die Teilnahme inkl. Golf Programm (2 Turniere) und Übernachtung für jeweils 2 Personen am Turnier-Wochenende „GC St. Pauli meets GOLFPARK STRELASUND“ vom 27. bis 29. September 2024. \nInformationen Sonderauswertung…
URL:https://www.golfclub-sittensen.de/turnier-events/benefix-turnier-zugunsten-der-deutschen-krebshilfe/
LOCATION:Golfclub Königshof Sittensen e.V.\, Alpershausener Weg 60\, Sittensen\, 27419\, Deutschland
END:VEVENT
END:VCALENDAR