BEGIN:VCALENDAR
VERSION:2.0
PRODID:-//Golfclub Sittensen - ECPv6.10.1//NONSGML v1.0//EN
CALSCALE:GREGORIAN
METHOD:PUBLISH
X-WR-CALNAME:Golfclub Sittensen
X-ORIGINAL-URL:https://www.golfclub-sittensen.de
X-WR-CALDESC:Veranstaltungen für Golfclub Sittensen
REFRESH-INTERVAL;VALUE=DURATION:PT1H
X-Robots-Tag:noindex
X-PUBLISHED-TTL:PT1H
BEGIN:VTIMEZONE
TZID:UTC
BEGIN:STANDARD
TZOFFSETFROM:+0000
TZOFFSETTO:+0000
TZNAME:UTC
DTSTART:20240101T000000
END:STANDARD
END:VTIMEZONE
BEGIN:VEVENT
DTSTART;TZID=UTC:20240720T100000
DTEND;TZID=UTC:20240720T150000
DTSTAMP:20260421T075715
CREATED:20231229T164530Z
LAST-MODIFIED:20240404T145908Z
UID:6102-1721469600-1721487600@www.golfclub-sittensen.de
SUMMARY:Monatspreis Juli by golf.de STRAWBERRY Tour
DESCRIPTION:Spielart: Stableford\, 18 Loch\, HCPI-relevant \nHier geht es zur Ausschreibung…
URL:https://www.golfclub-sittensen.de/turnier-events/monatspreis-juli-by-golf-de-strawberry-tour/
LOCATION:Golfclub Königshof Sittensen e.V.\, Alpershausener Weg 60\, Sittensen\, 27419\, Deutschland
END:VEVENT
BEGIN:VEVENT
DTSTART;TZID=UTC:20240720T110000
DTEND;TZID=UTC:20240720T130000
DTSTAMP:20260421T075715
CREATED:20231116T145030Z
LAST-MODIFIED:20231119T114238Z
UID:5586-1721473200-1721480400@www.golfclub-sittensen.de
SUMMARY:Wochenend-Schnuppergolf
DESCRIPTION:Dauer: Samstag & Sonntag ca. 2 Stunden Training \nBeginn: 11.00 Uhr \nMindestteilnehmerzahl: 5 Personen \nAktionspreis: 59\,00 € p. P.
URL:https://www.golfclub-sittensen.de/turnier-events/wochenend-schnuppergolf-27/
LOCATION:Golfclub Königshof Sittensen e.V.\, Alpershausener Weg 60\, Sittensen\, 27419\, Deutschland
END:VEVENT
END:VCALENDAR