BEGIN:VCALENDAR
VERSION:2.0
PRODID:-//Golfclub Sittensen - ECPv6.10.1//NONSGML v1.0//EN
CALSCALE:GREGORIAN
METHOD:PUBLISH
X-WR-CALNAME:Golfclub Sittensen
X-ORIGINAL-URL:https://www.golfclub-sittensen.de
X-WR-CALDESC:Veranstaltungen für Golfclub Sittensen
REFRESH-INTERVAL;VALUE=DURATION:PT1H
X-Robots-Tag:noindex
X-PUBLISHED-TTL:PT1H
BEGIN:VTIMEZONE
TZID:UTC
BEGIN:STANDARD
TZOFFSETFROM:+0000
TZOFFSETTO:+0000
TZNAME:UTC
DTSTART:20240101T000000
END:STANDARD
END:VTIMEZONE
BEGIN:VEVENT
DTSTART;TZID=UTC:20240718T100000
DTEND;TZID=UTC:20240718T150000
DTSTAMP:20260421T080203
CREATED:20231229T153028Z
LAST-MODIFIED:20231229T153028Z
UID:6063-1721296800-1721314800@www.golfclub-sittensen.de
SUMMARY:Seniorengolf
DESCRIPTION:
URL:https://www.golfclub-sittensen.de/turnier-events/seniorengolf-25/
LOCATION:Golfclub Königshof Sittensen e.V.\, Alpershausener Weg 60\, Sittensen\, 27419\, Deutschland
END:VEVENT
BEGIN:VEVENT
DTSTART;TZID=UTC:20240718T100000
DTEND;TZID=UTC:20240718T160000
DTSTAMP:20260421T080203
CREATED:20240121T170725Z
LAST-MODIFIED:20240121T170735Z
UID:6281-1721296800-1721318400@www.golfclub-sittensen.de
SUMMARY:Heimspiel AK 50 Damen
DESCRIPTION:
URL:https://www.golfclub-sittensen.de/turnier-events/heimspiel-ah-50-damen/
LOCATION:Golfclub Königshof Sittensen e.V.\, Alpershausener Weg 60\, Sittensen\, 27419\, Deutschland
ORGANIZER;CN="Golfclub K%C3%B6nigshof Sittensen e.V.":MAILTO:www.golfclub-sittensen.de
END:VEVENT
END:VCALENDAR