BEGIN:VCALENDAR
VERSION:2.0
PRODID:-//Golfclub Sittensen - ECPv6.10.1//NONSGML v1.0//EN
CALSCALE:GREGORIAN
METHOD:PUBLISH
X-ORIGINAL-URL:https://www.golfclub-sittensen.de
X-WR-CALDESC:Veranstaltungen für Golfclub Sittensen
REFRESH-INTERVAL;VALUE=DURATION:PT1H
X-Robots-Tag:noindex
X-PUBLISHED-TTL:PT1H
BEGIN:VTIMEZONE
TZID:UTC
BEGIN:STANDARD
TZOFFSETFROM:+0000
TZOFFSETTO:+0000
TZNAME:UTC
DTSTART:20240101T000000
END:STANDARD
END:VTIMEZONE
BEGIN:VEVENT
DTSTART;TZID=UTC:20240717T060000
DTEND;TZID=UTC:20240717T203000
DTSTAMP:20260421T083858
CREATED:20231119T121838Z
LAST-MODIFIED:20240411T090027Z
UID:5703-1721196000-1721248200@www.golfclub-sittensen.de
SUMMARY:Off. Mercedes Benz AWGC (7)
DESCRIPTION:Spielart: Stableford (HCPI-relevant)\, 9-Loch\, Kanonenstart \nEs werden abwechselnd die Bahnen 1 – 9 oder 10 – 18 gespielt. \nHier geht es zur Ausschreibung…
URL:https://www.golfclub-sittensen.de/turnier-events/off-mbawgc-7/
LOCATION:Golfclub Königshof Sittensen e.V.\, Alpershausener Weg 60\, Sittensen\, 27419\, Deutschland
ORGANIZER;CN="Golfclub K%C3%B6nigshof Sittensen e.V.":MAILTO:www.golfclub-sittensen.de
END:VEVENT
BEGIN:VEVENT
DTSTART;TZID=UTC:20240717T110000
DTEND;TZID=UTC:20240717T150000
DTSTAMP:20260421T083858
CREATED:20231229T164054Z
LAST-MODIFIED:20231229T164054Z
UID:6097-1721214000-1721228400@www.golfclub-sittensen.de
SUMMARY:MiDaGolferinnen
DESCRIPTION:
URL:https://www.golfclub-sittensen.de/turnier-events/midagolferinnen-10/
LOCATION:Golfclub Königshof Sittensen e.V.\, Alpershausener Weg 60\, Sittensen\, 27419\, Deutschland
END:VEVENT
END:VCALENDAR