BEGIN:VCALENDAR
VERSION:2.0
PRODID:-//Golfclub Sittensen - ECPv6.10.1//NONSGML v1.0//EN
CALSCALE:GREGORIAN
METHOD:PUBLISH
X-WR-CALNAME:Golfclub Sittensen
X-ORIGINAL-URL:https://www.golfclub-sittensen.de
X-WR-CALDESC:Veranstaltungen für Golfclub Sittensen
REFRESH-INTERVAL;VALUE=DURATION:PT1H
X-Robots-Tag:noindex
X-PUBLISHED-TTL:PT1H
BEGIN:VTIMEZONE
TZID:UTC
BEGIN:STANDARD
TZOFFSETFROM:+0000
TZOFFSETTO:+0000
TZNAME:UTC
DTSTART:20240101T000000
END:STANDARD
END:VTIMEZONE
BEGIN:VEVENT
DTSTART;VALUE=DATE:20240713
DTEND;VALUE=DATE:20240715
DTSTAMP:20260421T101838
CREATED:20240121T170508Z
LAST-MODIFIED:20240121T170508Z
UID:6277-1720828800-1721001599@www.golfclub-sittensen.de
SUMMARY:Mannschaftsmeisterschaften
DESCRIPTION:
URL:https://www.golfclub-sittensen.de/turnier-events/mannschaftsmeisterschaften/
LOCATION:Golfclub Königshof Sittensen e.V.\, Alpershausener Weg 60\, Sittensen\, 27419\, Deutschland
ORGANIZER;CN="Golfclub K%C3%B6nigshof Sittensen e.V.":MAILTO:www.golfclub-sittensen.de
END:VEVENT
BEGIN:VEVENT
DTSTART;TZID=UTC:20240714T110000
DTEND;TZID=UTC:20240714T130000
DTSTAMP:20260421T101838
CREATED:20231116T144056Z
LAST-MODIFIED:20231116T144056Z
UID:5572-1720954800-1720962000@www.golfclub-sittensen.de
SUMMARY:Schnuppergolfen
DESCRIPTION:Dauer: 2 Stunden\, Beginn: 11.00 Uhr \nMindestteilnehmerzahl: 5 Personen \nAktionspreis: 15\,00 € p. P.
URL:https://www.golfclub-sittensen.de/turnier-events/schnuppergolfen-4/
LOCATION:Golfclub Königshof Sittensen e.V.\, Alpershausener Weg 60\, Sittensen\, 27419\, Deutschland
END:VEVENT
END:VCALENDAR