BEGIN:VCALENDAR
VERSION:2.0
PRODID:-//Golfclub Sittensen - ECPv6.10.1//NONSGML v1.0//EN
CALSCALE:GREGORIAN
METHOD:PUBLISH
X-ORIGINAL-URL:https://www.golfclub-sittensen.de
X-WR-CALDESC:Veranstaltungen für Golfclub Sittensen
REFRESH-INTERVAL;VALUE=DURATION:PT1H
X-Robots-Tag:noindex
X-PUBLISHED-TTL:PT1H
BEGIN:VTIMEZONE
TZID:UTC
BEGIN:STANDARD
TZOFFSETFROM:+0000
TZOFFSETTO:+0000
TZNAME:UTC
DTSTART:20240101T000000
END:STANDARD
END:VTIMEZONE
BEGIN:VEVENT
DTSTART;TZID=UTC:20240626T060000
DTEND;TZID=UTC:20240626T203000
DTSTAMP:20260421T113834
CREATED:20231119T121535Z
LAST-MODIFIED:20240411T085405Z
UID:5699-1719381600-1719433800@www.golfclub-sittensen.de
SUMMARY:Off. Mercedes Benz AWGC (5)
DESCRIPTION:Spielart: Stableford (HCPI-relevant)\, 9-Loch\, Kanonenstart \nEs werden abwechselnd die Bahnen 1 – 9 oder 10 – 18 gespielt. \nHier geht es zur Ausschreibung…
URL:https://www.golfclub-sittensen.de/turnier-events/off-mbawgc-5/
LOCATION:Golfclub Königshof Sittensen e.V.\, Alpershausener Weg 60\, Sittensen\, 27419\, Deutschland
ORGANIZER;CN="Golfclub K%C3%B6nigshof Sittensen e.V.":MAILTO:www.golfclub-sittensen.de
END:VEVENT
BEGIN:VEVENT
DTSTART;TZID=UTC:20240626T110000
DTEND;TZID=UTC:20240626T150000
DTSTAMP:20260421T113834
CREATED:20231228T171556Z
LAST-MODIFIED:20231228T171556Z
UID:6005-1719399600-1719414000@www.golfclub-sittensen.de
SUMMARY:MiDaGolferinnen
DESCRIPTION:Summer – Eclectic (bis 26.06.2024)
URL:https://www.golfclub-sittensen.de/turnier-events/midagolferinnen-8/
LOCATION:Golfclub Königshof Sittensen e.V.\, Alpershausener Weg 60\, Sittensen\, 27419\, Deutschland
CATEGORIES:Wettspielkalender
END:VEVENT
END:VCALENDAR