BEGIN:VCALENDAR
VERSION:2.0
PRODID:-//Golfclub Sittensen - ECPv6.10.1//NONSGML v1.0//EN
CALSCALE:GREGORIAN
METHOD:PUBLISH
X-WR-CALNAME:Golfclub Sittensen
X-ORIGINAL-URL:https://www.golfclub-sittensen.de
X-WR-CALDESC:Veranstaltungen für Golfclub Sittensen
REFRESH-INTERVAL;VALUE=DURATION:PT1H
X-Robots-Tag:noindex
X-PUBLISHED-TTL:PT1H
BEGIN:VTIMEZONE
TZID:UTC
BEGIN:STANDARD
TZOFFSETFROM:+0000
TZOFFSETTO:+0000
TZNAME:UTC
DTSTART:20240101T000000
END:STANDARD
END:VTIMEZONE
BEGIN:VEVENT
DTSTART;TZID=UTC:20240615T100000
DTEND;TZID=UTC:20240615T100000
DTSTAMP:20260421T113628
CREATED:20231119T120313Z
LAST-MODIFIED:20240603T141648Z
UID:5686-1718445600-1718445600@www.golfclub-sittensen.de
SUMMARY:Off. Königshofpokal
DESCRIPTION:Spielart: Stableford (HCPI-relevant)\, 18-Loch\, Kanonenstart \nBeginn: 11.00 Uhr\, Begrüßung: 10.15 Uhr \nSonderpreis für ein Hole in One an der Bahn 8… \nHier geht es zur Ausschreibung…
URL:https://www.golfclub-sittensen.de/turnier-events/koenigshofpokal/
LOCATION:Golfclub Königshof Sittensen e.V.\, Alpershausener Weg 60\, Sittensen\, 27419\, Deutschland
CATEGORIES:Wettspielkalender
ORGANIZER;CN="Golfclub K%C3%B6nigshof Sittensen e.V.":MAILTO:www.golfclub-sittensen.de
END:VEVENT
BEGIN:VEVENT
DTSTART;TZID=UTC:20240615T110000
DTEND;TZID=UTC:20240615T130000
DTSTAMP:20260421T113628
CREATED:20240109T154812Z
LAST-MODIFIED:20240109T154812Z
UID:6224-1718449200-1718456400@www.golfclub-sittensen.de
SUMMARY:Wochenend-Schnupperkurs
DESCRIPTION:
URL:https://www.golfclub-sittensen.de/turnier-events/wochenend-schnupperkurs/
END:VEVENT
END:VCALENDAR