BEGIN:VCALENDAR
VERSION:2.0
PRODID:-//Golfclub Sittensen - ECPv6.10.1//NONSGML v1.0//EN
CALSCALE:GREGORIAN
METHOD:PUBLISH
X-ORIGINAL-URL:https://www.golfclub-sittensen.de
X-WR-CALDESC:Veranstaltungen für Golfclub Sittensen
REFRESH-INTERVAL;VALUE=DURATION:PT1H
X-Robots-Tag:noindex
X-PUBLISHED-TTL:PT1H
BEGIN:VTIMEZONE
TZID:UTC
BEGIN:STANDARD
TZOFFSETFROM:+0000
TZOFFSETTO:+0000
TZNAME:UTC
DTSTART:20240101T000000
END:STANDARD
END:VTIMEZONE
BEGIN:VEVENT
DTSTART;TZID=UTC:20240526T110000
DTEND;TZID=UTC:20240526T133000
DTSTAMP:20260421T130458
CREATED:20231116T150616Z
LAST-MODIFIED:20240507T075029Z
UID:5602-1716721200-1716730200@www.golfclub-sittensen.de
SUMMARY:Ladies Afternoon
DESCRIPTION:Hier geht es zur Ausschreibung…
URL:https://www.golfclub-sittensen.de/turnier-events/only-ladies-jab-anstoetz/
LOCATION:Golfclub Königshof Sittensen e.V.\, Alpershausener Weg 60\, Sittensen\, 27419\, Deutschland
END:VEVENT
END:VCALENDAR