BEGIN:VCALENDAR
VERSION:2.0
PRODID:-//Golfclub Sittensen - ECPv6.10.1//NONSGML v1.0//EN
CALSCALE:GREGORIAN
METHOD:PUBLISH
X-ORIGINAL-URL:https://www.golfclub-sittensen.de
X-WR-CALDESC:Veranstaltungen für Golfclub Sittensen
REFRESH-INTERVAL;VALUE=DURATION:PT1H
X-Robots-Tag:noindex
X-PUBLISHED-TTL:PT1H
BEGIN:VTIMEZONE
TZID:UTC
BEGIN:STANDARD
TZOFFSETFROM:+0000
TZOFFSETTO:+0000
TZNAME:UTC
DTSTART:20240101T000000
END:STANDARD
END:VTIMEZONE
BEGIN:VEVENT
DTSTART;TZID=UTC:20240522T060000
DTEND;TZID=UTC:20240522T203000
DTSTAMP:20260421T130503
CREATED:20231119T123400Z
LAST-MODIFIED:20240411T085016Z
UID:5693-1716357600-1716409800@www.golfclub-sittensen.de
SUMMARY:Off. Mercedes Benz AWGC (2)
DESCRIPTION:Spielart: Stableford (HCPI-relevant)\, 9-Loch\, Kanonenstart \nEs werden abwechselnd die Bahnen 1 – 9 oder 10 – 18 gespielt. \nHier geht es zur Ausschreibung…
URL:https://www.golfclub-sittensen.de/turnier-events/off-mercedes-benz-awgc-2-2/
LOCATION:Golfclub Königshof Sittensen e.V.\, Alpershausener Weg 60\, Sittensen\, 27419\, Deutschland
ORGANIZER;CN="Golfclub K%C3%B6nigshof Sittensen e.V.":MAILTO:www.golfclub-sittensen.de
END:VEVENT
BEGIN:VEVENT
DTSTART;TZID=UTC:20240522T110000
DTEND;TZID=UTC:20240522T150000
DTSTAMP:20260421T130503
CREATED:20230122T125411Z
LAST-MODIFIED:20231228T170914Z
UID:4245-1716375600-1716390000@www.golfclub-sittensen.de
SUMMARY:MiDaGolferinnen
DESCRIPTION:Summer – Eclectic (bis 26.06.2024)
URL:https://www.golfclub-sittensen.de/turnier-events/damen-sommer-eclectic-bis-26-06-2023/
LOCATION:Golfclub Königshof Sittensen e.V.\, Alpershausener Weg 60\, Sittensen\, 27419\, Deutschland
CATEGORIES:Wettspielkalender
ORGANIZER;CN="Golfclub K%C3%B6nigshof Sittensen e.V.":MAILTO:www.golfclub-sittensen.de
END:VEVENT
END:VCALENDAR