BEGIN:VCALENDAR
VERSION:2.0
PRODID:-//Golfclub Sittensen - ECPv6.10.1//NONSGML v1.0//EN
CALSCALE:GREGORIAN
METHOD:PUBLISH
X-ORIGINAL-URL:https://www.golfclub-sittensen.de
X-WR-CALDESC:Veranstaltungen für Golfclub Sittensen
REFRESH-INTERVAL;VALUE=DURATION:PT1H
X-Robots-Tag:noindex
X-PUBLISHED-TTL:PT1H
BEGIN:VTIMEZONE
TZID:UTC
BEGIN:STANDARD
TZOFFSETFROM:+0000
TZOFFSETTO:+0000
TZNAME:UTC
DTSTART:20240101T000000
END:STANDARD
END:VTIMEZONE
BEGIN:VEVENT
DTSTART;TZID=UTC:20240519T100000
DTEND;TZID=UTC:20240519T150000
DTSTAMP:20260421T141806
CREATED:20231228T172712Z
LAST-MODIFIED:20240404T145612Z
UID:6016-1716112800-1716130800@www.golfclub-sittensen.de
SUMMARY:Monatspreis Mai by golf.de STRAWBERRY TOUR
DESCRIPTION:Spielart: Stableford\, 18-Loch\, HCPI-relevant \nHier geht es zur Ausschreibung…
URL:https://www.golfclub-sittensen.de/turnier-events/monatspreis-mai-by-golf-de-strawberry-tour/
LOCATION:Golfclub Königshof Sittensen e.V.\, Alpershausener Weg 60\, Sittensen\, 27419\, Deutschland
END:VEVENT
BEGIN:VEVENT
DTSTART;TZID=UTC:20240519T110000
DTEND;TZID=UTC:20240519T130000
DTSTAMP:20260421T141806
CREATED:20231119T113736Z
LAST-MODIFIED:20231119T113736Z
UID:5658-1716116400-1716123600@www.golfclub-sittensen.de
SUMMARY:Wochenend-Schnuppergolf
DESCRIPTION:Dauer: Samstag & Sonntag ca. 2 Stunden Training \nBeginn: 11.00 Uhr \nMindestteilnehmerzahl: 5 Personen \nAktionspreis: 59\,00 € p. P.
URL:https://www.golfclub-sittensen.de/turnier-events/wochenend-schnuppergolf-31/
LOCATION:Golfclub Königshof Sittensen e.V.\, Alpershausener Weg 60\, Sittensen\, 27419\, Deutschland
ORGANIZER;CN="Golfclub K%C3%B6nigshof Sittensen e.V.":MAILTO:www.golfclub-sittensen.de
END:VEVENT
END:VCALENDAR