BEGIN:VCALENDAR
VERSION:2.0
PRODID:-//Golfclub Sittensen - ECPv6.10.1//NONSGML v1.0//EN
CALSCALE:GREGORIAN
METHOD:PUBLISH
X-ORIGINAL-URL:https://www.golfclub-sittensen.de
X-WR-CALDESC:Veranstaltungen für Golfclub Sittensen
REFRESH-INTERVAL;VALUE=DURATION:PT1H
X-Robots-Tag:noindex
X-PUBLISHED-TTL:PT1H
BEGIN:VTIMEZONE
TZID:UTC
BEGIN:STANDARD
TZOFFSETFROM:+0000
TZOFFSETTO:+0000
TZNAME:UTC
DTSTART:20240101T000000
END:STANDARD
END:VTIMEZONE
BEGIN:VEVENT
DTSTART;TZID=UTC:20240518T110000
DTEND;TZID=UTC:20240518T130000
DTSTAMP:20260421T125831
CREATED:20231116T144817Z
LAST-MODIFIED:20231119T113639Z
UID:5582-1716030000-1716037200@www.golfclub-sittensen.de
SUMMARY:Wochenend-Schnuppergolf
DESCRIPTION:Dauer: Samstag & Sonntag ca. 2 Stunden Training \nBeginn: 11.00 Uhr \nMindestteilnehmerzahl: 5 Personen \nAktionspreis: 59\,00 € p. P.
URL:https://www.golfclub-sittensen.de/turnier-events/wochenend-schnuppergolf-25/
LOCATION:Golfclub Königshof Sittensen e.V.\, Alpershausener Weg 60\, Sittensen\, 27419\, Deutschland
END:VEVENT
BEGIN:VEVENT
DTSTART;TZID=UTC:20240518T130000
DTEND;TZID=UTC:20240518T150000
DTSTAMP:20260421T125831
CREATED:20231230T120349Z
LAST-MODIFIED:20231230T120349Z
UID:6161-1716037200-1716044400@www.golfclub-sittensen.de
SUMMARY:Beginner Treffen
DESCRIPTION:
URL:https://www.golfclub-sittensen.de/turnier-events/beginner-treffen-13/
LOCATION:Golfclub Königshof Sittensen e.V.\, Alpershausener Weg 60\, Sittensen\, 27419\, Deutschland
END:VEVENT
END:VCALENDAR