BEGIN:VCALENDAR
VERSION:2.0
PRODID:-//Golfclub Sittensen - ECPv6.10.1//NONSGML v1.0//EN
CALSCALE:GREGORIAN
METHOD:PUBLISH
X-WR-CALNAME:Golfclub Sittensen
X-ORIGINAL-URL:https://www.golfclub-sittensen.de
X-WR-CALDESC:Veranstaltungen für Golfclub Sittensen
REFRESH-INTERVAL;VALUE=DURATION:PT1H
X-Robots-Tag:noindex
X-PUBLISHED-TTL:PT1H
BEGIN:VTIMEZONE
TZID:UTC
BEGIN:STANDARD
TZOFFSETFROM:+0000
TZOFFSETTO:+0000
TZNAME:UTC
DTSTART:20240101T000000
END:STANDARD
END:VTIMEZONE
BEGIN:VEVENT
DTSTART;TZID=UTC:20240517T180000
DTEND;TZID=UTC:20240517T200000
DTSTAMP:20260421T141944
CREATED:20231228T165956Z
LAST-MODIFIED:20240321T162456Z
UID:5981-1715968800-1715976000@www.golfclub-sittensen.de
SUMMARY:Fridays Open (6)
DESCRIPTION:Spielart: Einzel Stableford über 9 Löcher\, HCPI-relevant \nHier geht es zur Ausschreibung…
URL:https://www.golfclub-sittensen.de/turnier-events/fridays-open-6/
LOCATION:Golfclub Königshof Sittensen e.V.\, Alpershausener Weg 60\, Sittensen\, 27419\, Deutschland
END:VEVENT
END:VCALENDAR