BEGIN:VCALENDAR
VERSION:2.0
PRODID:-//Golfclub Sittensen - ECPv6.10.1//NONSGML v1.0//EN
CALSCALE:GREGORIAN
METHOD:PUBLISH
X-WR-CALNAME:Golfclub Sittensen
X-ORIGINAL-URL:https://www.golfclub-sittensen.de
X-WR-CALDESC:Veranstaltungen für Golfclub Sittensen
REFRESH-INTERVAL;VALUE=DURATION:PT1H
X-Robots-Tag:noindex
X-PUBLISHED-TTL:PT1H
BEGIN:VTIMEZONE
TZID:UTC
BEGIN:STANDARD
TZOFFSETFROM:+0000
TZOFFSETTO:+0000
TZNAME:UTC
DTSTART:20240101T000000
END:STANDARD
END:VTIMEZONE
BEGIN:VEVENT
DTSTART;TZID=UTC:20240512T100000
DTEND;TZID=UTC:20240512T150000
DTSTAMP:20260421T130310
CREATED:20231228T172436Z
LAST-MODIFIED:20240411T113020Z
UID:6013-1715508000-1715526000@www.golfclub-sittensen.de
SUMMARY:Vierer-Clubmeisterschaft
DESCRIPTION:Die Vierer-Clubmeisterschaften finden erstmals an nur einem Tag statt. \nSpielart: \n\n1 – 10: Auswahldrive\n11 – 18: Klassischer Vierer\n\nHier geht es zur Ausschreibung…
URL:https://www.golfclub-sittensen.de/turnier-events/vierer-clubmeisterschaft-2/
LOCATION:Golfclub Königshof Sittensen e.V.\, Alpershausener Weg 60\, Sittensen\, 27419\, Deutschland
END:VEVENT
BEGIN:VEVENT
DTSTART;TZID=UTC:20240512T110000
DTEND;TZID=UTC:20240512T130000
DTSTAMP:20260421T130310
CREATED:20231116T143854Z
LAST-MODIFIED:20231116T143854Z
UID:5568-1715511600-1715518800@www.golfclub-sittensen.de
SUMMARY:Schnuppergolfen
DESCRIPTION:Dauer: 2 Stunden\, Beginn: 11.00 Uhr \nMindestteilnehmerzahl: 5 Personen \nAktionspreis: 15\,00 € p. P.
URL:https://www.golfclub-sittensen.de/turnier-events/schnuppergolfen-2/
LOCATION:Golfclub Königshof Sittensen e.V.\, Alpershausener Weg 60\, Sittensen\, 27419\, Deutschland
END:VEVENT
END:VCALENDAR