BEGIN:VCALENDAR
VERSION:2.0
PRODID:-//Golfclub Sittensen - ECPv6.10.1//NONSGML v1.0//EN
CALSCALE:GREGORIAN
METHOD:PUBLISH
X-ORIGINAL-URL:https://www.golfclub-sittensen.de
X-WR-CALDESC:Veranstaltungen für Golfclub Sittensen
REFRESH-INTERVAL;VALUE=DURATION:PT1H
X-Robots-Tag:noindex
X-PUBLISHED-TTL:PT1H
BEGIN:VTIMEZONE
TZID:UTC
BEGIN:STANDARD
TZOFFSETFROM:+0000
TZOFFSETTO:+0000
TZNAME:UTC
DTSTART:20240101T000000
END:STANDARD
END:VTIMEZONE
BEGIN:VEVENT
DTSTART;TZID=UTC:20240509T100000
DTEND;TZID=UTC:20240509T150000
DTSTAMP:20260421T141515
CREATED:20231228T171806Z
LAST-MODIFIED:20240411T113200Z
UID:6008-1715248800-1715266800@www.golfclub-sittensen.de
SUMMARY:Off. Vatertagsturnier (ab 18 Jahren)
DESCRIPTION:nur für Väter\, oder die die es noch werden wollen\n18 Löcher (handicap-relevant)\nGäste sind herzlich Willkommen\nAnschließend gemütliches Beisammensein auf der Terrasse mit Musik\n\nHier geht es zur Ausschreibung…
URL:https://www.golfclub-sittensen.de/turnier-events/off-vatertagsturnier-3/
LOCATION:Golfclub Königshof Sittensen e.V.\, Alpershausener Weg 60\, Sittensen\, 27419\, Deutschland
END:VEVENT
END:VCALENDAR