BEGIN:VCALENDAR
VERSION:2.0
PRODID:-//Golfclub Sittensen - ECPv6.10.1//NONSGML v1.0//EN
CALSCALE:GREGORIAN
METHOD:PUBLISH
X-WR-CALNAME:Golfclub Sittensen
X-ORIGINAL-URL:https://www.golfclub-sittensen.de
X-WR-CALDESC:Veranstaltungen für Golfclub Sittensen
REFRESH-INTERVAL;VALUE=DURATION:PT1H
X-Robots-Tag:noindex
X-PUBLISHED-TTL:PT1H
BEGIN:VTIMEZONE
TZID:UTC
BEGIN:STANDARD
TZOFFSETFROM:+0000
TZOFFSETTO:+0000
TZNAME:UTC
DTSTART:20240101T000000
END:STANDARD
END:VTIMEZONE
BEGIN:VEVENT
DTSTART;TZID=UTC:20240505T100000
DTEND;TZID=UTC:20240505T150000
DTSTAMP:20260421T130158
CREATED:20231230T120231Z
LAST-MODIFIED:20240209T114642Z
UID:6159-1714903200-1714921200@www.golfclub-sittensen.de
SUMMARY:Einladungsturnier - STERNPARTNER TESMER
DESCRIPTION:
URL:https://www.golfclub-sittensen.de/turnier-events/einladungsturnier-mercedes-benz/
LOCATION:Golfclub Königshof Sittensen e.V.\, Alpershausener Weg 60\, Sittensen\, 27419\, Deutschland
END:VEVENT
END:VCALENDAR