BEGIN:VCALENDAR
VERSION:2.0
PRODID:-//Golfclub Sittensen - ECPv6.10.1//NONSGML v1.0//EN
CALSCALE:GREGORIAN
METHOD:PUBLISH
X-ORIGINAL-URL:https://www.golfclub-sittensen.de
X-WR-CALDESC:Veranstaltungen für Golfclub Sittensen
REFRESH-INTERVAL;VALUE=DURATION:PT1H
X-Robots-Tag:noindex
X-PUBLISHED-TTL:PT1H
BEGIN:VTIMEZONE
TZID:UTC
BEGIN:STANDARD
TZOFFSETFROM:+0000
TZOFFSETTO:+0000
TZNAME:UTC
DTSTART:20240101T000000
END:STANDARD
END:VTIMEZONE
BEGIN:VEVENT
DTSTART;TZID=UTC:20240502T100000
DTEND;TZID=UTC:20240502T140000
DTSTAMP:20260421T142443
CREATED:20231117T105539Z
LAST-MODIFIED:20240324T121936Z
UID:5641-1714644000-1714658400@www.golfclub-sittensen.de
SUMMARY:Off. Senioren- / Seniorinnengolf
DESCRIPTION:Spielart: Stableford (HCPI-relevant) \n9 + 18 Loch \nHier geht es zur Ausschreibung…
URL:https://www.golfclub-sittensen.de/turnier-events/off-senioren-seniorinnengolf-7/
LOCATION:Golfclub Königshof Sittensen e.V.\, Alpershausener Weg 60\, Sittensen\, 27419\, Deutschland
ORGANIZER;CN="Golfclub K%C3%B6nigshof Sittensen e.V.":MAILTO:www.golfclub-sittensen.de
END:VEVENT
END:VCALENDAR