BEGIN:VCALENDAR
VERSION:2.0
PRODID:-//Golfclub Sittensen - ECPv6.10.1//NONSGML v1.0//EN
CALSCALE:GREGORIAN
METHOD:PUBLISH
X-ORIGINAL-URL:https://www.golfclub-sittensen.de
X-WR-CALDESC:Veranstaltungen für Golfclub Sittensen
REFRESH-INTERVAL;VALUE=DURATION:PT1H
X-Robots-Tag:noindex
X-PUBLISHED-TTL:PT1H
BEGIN:VTIMEZONE
TZID:UTC
BEGIN:STANDARD
TZOFFSETFROM:+0000
TZOFFSETTO:+0000
TZNAME:UTC
DTSTART:20240101T000000
END:STANDARD
END:VTIMEZONE
BEGIN:VEVENT
DTSTART;TZID=UTC:20240320T110000
DTEND;TZID=UTC:20240320T150000
DTSTAMP:20260421T160418
CREATED:20231114T095058Z
LAST-MODIFIED:20231114T095130Z
UID:5537-1710932400-1710946800@www.golfclub-sittensen.de
SUMMARY:Ende der Winterrunde der MiDaGolferinnen
DESCRIPTION:
URL:https://www.golfclub-sittensen.de/turnier-events/ende-der-winterrunde-der-midagolferinnen/
LOCATION:Golfclub Königshof Sittensen e.V.\, Alpershausener Weg 60\, Sittensen\, 27419\, Deutschland
END:VEVENT
END:VCALENDAR