BEGIN:VCALENDAR
VERSION:2.0
PRODID:-//Golfclub Sittensen - ECPv6.10.1//NONSGML v1.0//EN
CALSCALE:GREGORIAN
METHOD:PUBLISH
X-WR-CALNAME:Golfclub Sittensen
X-ORIGINAL-URL:https://www.golfclub-sittensen.de
X-WR-CALDESC:Veranstaltungen für Golfclub Sittensen
REFRESH-INTERVAL;VALUE=DURATION:PT1H
X-Robots-Tag:noindex
X-PUBLISHED-TTL:PT1H
BEGIN:VTIMEZONE
TZID:UTC
BEGIN:STANDARD
TZOFFSETFROM:+0000
TZOFFSETTO:+0000
TZNAME:UTC
DTSTART:20230101T000000
END:STANDARD
END:VTIMEZONE
BEGIN:VEVENT
DTSTART;TZID=UTC:20230913T110000
DTEND;TZID=UTC:20230913T160000
DTSTAMP:20260422T005646
CREATED:20230122T130630Z
LAST-MODIFIED:20230122T130630Z
UID:4260-1694602800-1694620800@www.golfclub-sittensen.de
SUMMARY:Heideblütenturnier
DESCRIPTION:Scramble
URL:https://www.golfclub-sittensen.de/turnier-events/heidebluetenturnier-2/
LOCATION:Golfclub Königshof Sittensen e.V.\, Alpershausener Weg 60\, Sittensen\, 27419\, Deutschland
CATEGORIES:Wettspielkalender
ORGANIZER;CN="Golfclub K%C3%B6nigshof Sittensen e.V.":MAILTO:www.golfclub-sittensen.de
END:VEVENT
BEGIN:VEVENT
DTSTART;TZID=UTC:20230913T170000
DTEND;TZID=UTC:20230913T193000
DTSTAMP:20260422T005646
CREATED:20230217T123000Z
LAST-MODIFIED:20230412T122436Z
UID:4513-1694624400-1694633400@www.golfclub-sittensen.de
SUMMARY:Off. MBAWGC Serie (14) - Bahnen 10 - 18
DESCRIPTION:Die Anmeldung für die Mercedes-Benz AWGC 2023 Serie erfolgt ausschließlich über awgc.de!
URL:https://www.golfclub-sittensen.de/turnier-events/offenes-mercedes-benz-after-work-turnier-im-golfclub-koenigshof-sittensen/
LOCATION:Golfclub Königshof Sittensen e.V.\, Alpershausener Weg 60\, Sittensen\, 27419\, Deutschland
CATEGORIES:Wettspielkalender
ATTACH;FMTTYPE=application/pdf:https://www.golfclub-sittensen.de/wp-content/uploads/2023/02/Kurzausschreibung-Mercedes-Benz-AWGC-2023_mit-Logo-Tesmer-13.pdf
ORGANIZER;CN="Golfclub K%C3%B6nigshof Sittensen e.V.":MAILTO:www.golfclub-sittensen.de
END:VEVENT
END:VCALENDAR