BEGIN:VCALENDAR
VERSION:2.0
PRODID:-//Golfclub Sittensen - ECPv6.10.1//NONSGML v1.0//EN
CALSCALE:GREGORIAN
METHOD:PUBLISH
X-ORIGINAL-URL:https://www.golfclub-sittensen.de
X-WR-CALDESC:Veranstaltungen für Golfclub Sittensen
REFRESH-INTERVAL;VALUE=DURATION:PT1H
X-Robots-Tag:noindex
X-PUBLISHED-TTL:PT1H
BEGIN:VTIMEZONE
TZID:UTC
BEGIN:STANDARD
TZOFFSETFROM:+0000
TZOFFSETTO:+0000
TZNAME:UTC
DTSTART:20230101T000000
END:STANDARD
END:VTIMEZONE
BEGIN:VEVENT
DTSTART;VALUE=DATE:20230830
DTEND;VALUE=DATE:20230831
DTSTAMP:20260422T005643
CREATED:20221217T102029Z
LAST-MODIFIED:20221217T102152Z
UID:4194-1693353600-1693439999@www.golfclub-sittensen.de
SUMMARY:Freundschaftsspiel Sittensen / Haseldorf (Senioren)
DESCRIPTION:in Haseldorf
URL:https://www.golfclub-sittensen.de/turnier-events/freundschaftsspiel-sittensen-haseldorf-senioren/
END:VEVENT
END:VCALENDAR