BEGIN:VCALENDAR
VERSION:2.0
PRODID:-//Golfclub Sittensen - ECPv6.10.1//NONSGML v1.0//EN
CALSCALE:GREGORIAN
METHOD:PUBLISH
X-ORIGINAL-URL:https://www.golfclub-sittensen.de
X-WR-CALDESC:Veranstaltungen für Golfclub Sittensen
REFRESH-INTERVAL;VALUE=DURATION:PT1H
X-Robots-Tag:noindex
X-PUBLISHED-TTL:PT1H
BEGIN:VTIMEZONE
TZID:UTC
BEGIN:STANDARD
TZOFFSETFROM:+0000
TZOFFSETTO:+0000
TZNAME:UTC
DTSTART:20230101T000000
END:STANDARD
END:VTIMEZONE
BEGIN:VEVENT
DTSTART;VALUE=DATE:20230819
DTEND;VALUE=DATE:20230820
DTSTAMP:20260422T021423
CREATED:20230217T121047Z
LAST-MODIFIED:20230217T121047Z
UID:4493-1692403200-1692489599@www.golfclub-sittensen.de
SUMMARY:Herren AK 50 II
DESCRIPTION:
URL:https://www.golfclub-sittensen.de/turnier-events/herren-ak-50-ii/
LOCATION:Golfclub Königshof Sittensen e.V.\, Alpershausener Weg 60\, Sittensen\, 27419\, Deutschland
CATEGORIES:Wettspielkalender
ORGANIZER;CN="Golfclub K%C3%B6nigshof Sittensen e.V.":MAILTO:www.golfclub-sittensen.de
END:VEVENT
BEGIN:VEVENT
DTSTART;TZID=UTC:20230819T110000
DTEND;TZID=UTC:20230819T130000
DTSTAMP:20260422T021423
CREATED:20221216T121453Z
LAST-MODIFIED:20230122T134747Z
UID:4167-1692442800-1692450000@www.golfclub-sittensen.de
SUMMARY:Wochenend-Schnuppergolf
DESCRIPTION:Leih-Golfschläger & unbegrenzte Anzahl an Übungsbällen\nKurze Einweisung in Griff\, Stand\, Haltung und Schwungtechnik\nErlernen des „Einlochens“- Putten auf dem Grün\nfreie Nutzung sämtlicher Übungsanlagen des Golfplatzes an beiden Kurstagen\, auch nach dem Training!\n\nWeitere Informationen sind im Flyer zu finden >> Link Flyer
URL:https://www.golfclub-sittensen.de/turnier-events/wochenend-schnuppergolf-21/
LOCATION:Golfclub Königshof Sittensen e.V.\, Alpershausener Weg 60\, Sittensen\, 27419\, Deutschland
ATTACH;FMTTYPE=application/pdf:https://www.golfclub-sittensen.de/wp-content/uploads/2022/12/Schnupperkurse-Ausschreibung-Termine-2023_A5-4.pdf
ORGANIZER;CN="Golfclub K%C3%B6nigshof Sittensen e.V.":MAILTO:www.golfclub-sittensen.de
END:VEVENT
END:VCALENDAR