BEGIN:VCALENDAR
VERSION:2.0
PRODID:-//Golfclub Sittensen - ECPv6.10.1//NONSGML v1.0//EN
CALSCALE:GREGORIAN
METHOD:PUBLISH
X-WR-CALNAME:Golfclub Sittensen
X-ORIGINAL-URL:https://www.golfclub-sittensen.de
X-WR-CALDESC:Veranstaltungen für Golfclub Sittensen
REFRESH-INTERVAL;VALUE=DURATION:PT1H
X-Robots-Tag:noindex
X-PUBLISHED-TTL:PT1H
BEGIN:VTIMEZONE
TZID:UTC
BEGIN:STANDARD
TZOFFSETFROM:+0000
TZOFFSETTO:+0000
TZNAME:UTC
DTSTART:20230101T000000
END:STANDARD
END:VTIMEZONE
BEGIN:VEVENT
DTSTART;VALUE=DATE:20230811
DTEND;VALUE=DATE:20230812
DTSTAMP:20260422T021331
CREATED:20230217T120747Z
LAST-MODIFIED:20230217T120747Z
UID:4485-1691712000-1691798399@www.golfclub-sittensen.de
SUMMARY:Einspielrunde MM AK GVNB
DESCRIPTION:
URL:https://www.golfclub-sittensen.de/turnier-events/einspielrunde-mm-ak-gvnb/
LOCATION:Golfclub Königshof Sittensen e.V.\, Alpershausener Weg 60\, Sittensen\, 27419\, Deutschland
CATEGORIES:Wettspielkalender
ORGANIZER;CN="Golfclub K%C3%B6nigshof Sittensen e.V.":MAILTO:www.golfclub-sittensen.de
END:VEVENT
END:VCALENDAR