BEGIN:VCALENDAR
VERSION:2.0
PRODID:-//Golfclub Sittensen - ECPv6.10.1//NONSGML v1.0//EN
CALSCALE:GREGORIAN
METHOD:PUBLISH
X-WR-CALNAME:Golfclub Sittensen
X-ORIGINAL-URL:https://www.golfclub-sittensen.de
X-WR-CALDESC:Veranstaltungen für Golfclub Sittensen
REFRESH-INTERVAL;VALUE=DURATION:PT1H
X-Robots-Tag:noindex
X-PUBLISHED-TTL:PT1H
BEGIN:VTIMEZONE
TZID:UTC
BEGIN:STANDARD
TZOFFSETFROM:+0000
TZOFFSETTO:+0000
TZNAME:UTC
DTSTART:20230101T000000
END:STANDARD
END:VTIMEZONE
BEGIN:VEVENT
DTSTART;TZID=UTC:20230809T100000
DTEND;TZID=UTC:20230809T150000
DTSTAMP:20260422T021347
CREATED:20230122T130350Z
LAST-MODIFIED:20230122T130350Z
UID:4255-1691575200-1691593200@www.golfclub-sittensen.de
SUMMARY:Damen Golfspaß
DESCRIPTION:
URL:https://www.golfclub-sittensen.de/turnier-events/damen-golfspass-4/
LOCATION:Golfclub Königshof Sittensen e.V.\, Alpershausener Weg 60\, Sittensen\, 27419\, Deutschland
CATEGORIES:Wettspielkalender
ORGANIZER;CN="Golfclub K%C3%B6nigshof Sittensen e.V.":MAILTO:www.golfclub-sittensen.de
END:VEVENT
BEGIN:VEVENT
DTSTART;TZID=UTC:20230809T180000
DTEND;TZID=UTC:20230809T203000
DTSTAMP:20260422T021347
CREATED:20230217T120705Z
LAST-MODIFIED:20230412T121236Z
UID:4483-1691604000-1691613000@www.golfclub-sittensen.de
SUMMARY:Off. MBAWGC Serie (10) - Bahnen 10 - 18
DESCRIPTION:Die Anmeldung für die Mercedes-Benz AWGC 2023 Serie erfolgt ausschließlich über awgc.de!
URL:https://www.golfclub-sittensen.de/turnier-events/off-mbawgc-serie-10/
LOCATION:Golfclub Königshof Sittensen e.V.\, Alpershausener Weg 60\, Sittensen\, 27419\, Deutschland
CATEGORIES:Wettspielkalender
ATTACH;FMTTYPE=application/pdf:https://www.golfclub-sittensen.de/wp-content/uploads/2023/02/Kurzausschreibung-Mercedes-Benz-AWGC-2023_mit-Logo-Tesmer-9.pdf
ORGANIZER;CN="Golfclub K%C3%B6nigshof Sittensen e.V.":MAILTO:www.golfclub-sittensen.de
END:VEVENT
END:VCALENDAR