BEGIN:VCALENDAR
VERSION:2.0
PRODID:-//Golfclub Sittensen - ECPv6.10.1//NONSGML v1.0//EN
CALSCALE:GREGORIAN
METHOD:PUBLISH
X-WR-CALNAME:Golfclub Sittensen
X-ORIGINAL-URL:https://www.golfclub-sittensen.de
X-WR-CALDESC:Veranstaltungen für Golfclub Sittensen
REFRESH-INTERVAL;VALUE=DURATION:PT1H
X-Robots-Tag:noindex
X-PUBLISHED-TTL:PT1H
BEGIN:VTIMEZONE
TZID:UTC
BEGIN:STANDARD
TZOFFSETFROM:+0000
TZOFFSETTO:+0000
TZNAME:UTC
DTSTART:20230101T000000
END:STANDARD
END:VTIMEZONE
BEGIN:VEVENT
DTSTART;TZID=UTC:20230804T170000
DTEND;TZID=UTC:20230804T193000
DTSTAMP:20260422T021844
CREATED:20230217T120457Z
LAST-MODIFIED:20230415T102930Z
UID:4476-1691168400-1691177400@www.golfclub-sittensen.de
SUMMARY:Off. Joka After Work (9-Loch) FINALE
DESCRIPTION:Aufgrund der Eclectric-Wertung werden über die gesamte Saison die Bahnen 1 – 9 gespielt.
URL:https://www.golfclub-sittensen.de/turnier-events/off-joka-after-work-9-loch-18/
LOCATION:Golfclub Königshof Sittensen e.V.\, Alpershausener Weg 60\, Sittensen\, 27419\, Deutschland
CATEGORIES:Wettspielkalender
ATTACH;FMTTYPE=application/pdf:https://www.golfclub-sittensen.de/wp-content/uploads/2023/02/Turnierausschreibung-Freitags-Joka-After-Work_-2023-8.pdf
ORGANIZER;CN="Golfclub K%C3%B6nigshof Sittensen e.V.":MAILTO:www.golfclub-sittensen.de
END:VEVENT
END:VCALENDAR