BEGIN:VCALENDAR
VERSION:2.0
PRODID:-//Golfclub Sittensen - ECPv6.10.1//NONSGML v1.0//EN
CALSCALE:GREGORIAN
METHOD:PUBLISH
X-WR-CALNAME:Golfclub Sittensen
X-ORIGINAL-URL:https://www.golfclub-sittensen.de
X-WR-CALDESC:Veranstaltungen für Golfclub Sittensen
REFRESH-INTERVAL;VALUE=DURATION:PT1H
X-Robots-Tag:noindex
X-PUBLISHED-TTL:PT1H
BEGIN:VTIMEZONE
TZID:UTC
BEGIN:STANDARD
TZOFFSETFROM:+0000
TZOFFSETTO:+0000
TZNAME:UTC
DTSTART:20230101T000000
END:STANDARD
END:VTIMEZONE
BEGIN:VEVENT
DTSTART;VALUE=DATE:20230727
DTEND;VALUE=DATE:20230728
DTSTAMP:20260422T033650
CREATED:20221217T101956Z
LAST-MODIFIED:20221217T102208Z
UID:4192-1690416000-1690502399@www.golfclub-sittensen.de
SUMMARY:Freundschaftsspiel Sittensen / Wümme (Senioren)
DESCRIPTION:In Sittensen
URL:https://www.golfclub-sittensen.de/turnier-events/freundschaftsspiel-sittensen-wuemme-senioren/
END:VEVENT
END:VCALENDAR